FILENAME: O4711511.NWS.56644.tif
QUADRANGLE_NAME: LARCHWOOD
QUADRANT: NW
WEST_LONGITUDE: -115 45 0.00000
EAST_LONGITUDE: -115 41 15.00000
NORTH_LATITUDE: 47 52 30.00000
SOUTH_LATITUDE: 47 48 45.00000
PRODUCTION_DATE: 1997 3 13
RASTER_ORDER: LEFT_RIGHT/TOP_BOTTOM
BAND_ORGANIZATION: SINGLE FILE
BAND_CONTENT: BLACK&WHITE
BAND_CONTENT: UNDEFINED
BAND_CONTENT: UNDEFINED
BITS_PER_PIXEL: 8
SAMPLES_AND_LINES: 5468 7636
HORIZONTAL_DATUM: NAD83
HORIZONTAL_COORDINATE_SYSTEM: UTM
COORDINATE_ZONE: 11
HORIZONTAL_UNITS: METERS
HORIZONTAL_RESOLUTION: 1.00000
SECONDARY_HORIZONTAL_DATUM: NAD27
XY_ORIGIN: 593093.00000 5303542.00000
SECONDARY_XY_ORIGIN: 593170.87000 5303332.16200
NATION: US
STATE: MT
NW_QUAD_CORNER_XY: 593468.67200 5303163.41200
NE_QUAD_CORNER_XY: 598142.02600 5303240.93500
SE_QUAD_CORNERY_XY: 598260.00600 5296294.68800
SW_QUAD_CORNER_XY: 593581.03200 5296217.14900
SECONDARY_NW_QUAD_XY: 593471.60600 5302944.58700
SECONDARY_NE_QUAD_XY: 598145.10700 5303022.11200
SECONDARY_SE_QUAD_XY: 598263.08600 5296075.88200
SECONDARY_SW_QUAD_XY: 593583.96500 5295998.34000
RMSE_XY: 3.10000
IMAGE_SOURCE: BLACK AND WHITE FILM
SOURCE_IMAGE_ID: NAPP 8419 16
SOURCE_IMAGE_DATE: 1995 8 21
SOURCE_DEM_DATE: 1997 3 13
AGENCY: WESTERN MAPPING CENTER (WMC)
PRODUCER: USFS
PRODUCTION_SYSTEM: DV2.6.3 10/9OV2.4 5/95
COMPRESSION: UNDEFINED
STANDARD_VERSION: 1996 12
METADATA_DATE: 1997 11 2
DATA_FILE_SIZE: 41759116
BYTE_COUNT: 5468
