FILENAME: O4711511.SES.56619.tif
QUADRANGLE_NAME: LARCHWOOD
QUADRANT: SE
WEST_LONGITUDE: -115 41 15.00000
EAST_LONGITUDE: -115 37 30.00000
NORTH_LATITUDE: 47 48 45.00000
SOUTH_LATITUDE: 47 45 0.00000
PRODUCTION_DATE: 1997 3 13
RASTER_ORDER: LEFT_RIGHT/TOP_BOTTOM
BAND_ORGANIZATION: SINGLE FILE
BAND_CONTENT: BLACK&WHITE
BAND_CONTENT: UNDEFINED
BAND_CONTENT: UNDEFINED
BITS_PER_PIXEL: 8
SAMPLES_AND_LINES: 5480 7640
HORIZONTAL_DATUM: NAD83
HORIZONTAL_COORDINATE_SYSTEM: UTM
COORDINATE_ZONE: 11
HORIZONTAL_UNITS: METERS
HORIZONTAL_RESOLUTION: 1.00000
SECONDARY_HORIZONTAL_DATUM: NAD27
XY_ORIGIN: 597884.00000 5296677.00000
SECONDARY_XY_ORIGIN: 597962.02400 5296467.16900
NATION: US
STATE: MT
NW_QUAD_CORNER_XY: 598260.00600 5296294.68800
NE_QUAD_CORNER_XY: 602938.96900 5296376.01200
SE_QUAD_CORNERY_XY: 603062.44500 5289429.85400
SW_QUAD_CORNER_XY: 598377.86800 5289348.51300
SECONDARY_NW_QUAD_XY: 598263.08600 5296075.88200
SECONDARY_NE_QUAD_XY: 602942.19600 5296157.20800
SECONDARY_SE_QUAD_XY: 603065.67200 5289211.06800
SECONDARY_SW_QUAD_XY: 598380.94800 5289129.72500
RMSE_XY: 1.90000
IMAGE_SOURCE: BLACK AND WHITE FILM
SOURCE_IMAGE_ID: NAPP 8421 248
SOURCE_IMAGE_DATE: 1995 8 21
SOURCE_DEM_DATE: 1997 3 13
AGENCY: WESTERN MAPPING CENTER (WMC)
PRODUCER: USFS
PRODUCTION_SYSTEM: DV2.6.3 10/9OV2.4 5/95
COMPRESSION: UNDEFINED
STANDARD_VERSION: 1996 12
METADATA_DATE: 1997 11 2
DATA_FILE_SIZE: 41872680
BYTE_COUNT: 5480
