FILENAME: O4711510.NWS.56688.tif
QUADRANGLE_NAME: BLOOM PEAK
QUADRANT: NW
WEST_LONGITUDE: -115 52 30.00000
EAST_LONGITUDE: -115 48 45.00000
NORTH_LATITUDE: 47 52 30.00000
SOUTH_LATITUDE: 47 48 45.00000
PRODUCTION_DATE: 1997 2 27
RASTER_ORDER: LEFT_RIGHT/TOP_BOTTOM
BAND_ORGANIZATION: SINGLE FILE
BAND_CONTENT: BLACK&WHITE
BAND_CONTENT: UNDEFINED
BAND_CONTENT: UNDEFINED
BITS_PER_PIXEL: 8
SAMPLES_AND_LINES: 5456 7629
HORIZONTAL_DATUM: NAD83
HORIZONTAL_COORDINATE_SYSTEM: UTM
COORDINATE_ZONE: 11
HORIZONTAL_UNITS: METERS
HORIZONTAL_RESOLUTION: 1.00000
SECONDARY_HORIZONTAL_DATUM: NAD27
XY_ORIGIN: 583746.00000 5303391.00000
SECONDARY_XY_ORIGIN: 583823.00000 5303182.00000
NATION: US
STATE: MT
STATE: ID
NW_QUAD_CORNER_XY: 584121.93000 5303019.71400
NE_QUAD_CORNER_XY: 588795.30600 5303089.67200
SE_QUAD_CORNERY_XY: 588902.04700 5296143.39200
SW_QUAD_CORNER_XY: 584223.05100 5296073.41900
SECONDARY_NW_QUAD_XY: 584124.57000 5302800.88400
SECONDARY_NE_QUAD_XY: 588798.09300 5302870.84400
SECONDARY_SE_QUAD_XY: 588904.83400 5295924.58100
SECONDARY_SW_QUAD_XY: 584225.69200 5295854.60600
RMSE_XY: 4.90000
IMAGE_SOURCE: BLACK AND WHITE FILM
SOURCE_IMAGE_ID: NAPP 8421 213
SOURCE_IMAGE_DATE: 1995 8 21
SOURCE_DEM_DATE: 1997 2 27
AGENCY: WESTERN MAPPING CENTER (WMC)
PRODUCER: USFS
PRODUCTION_SYSTEM: DV2.6.3 10/9OV2.4 5/95
COMPRESSION: UNDEFINED
STANDARD_VERSION: 1996 12
METADATA_DATE: 1997 11 2
DATA_FILE_SIZE: 41629280
BYTE_COUNT: 5456
