FILENAME: O4711510.SES.56665.tif
QUADRANGLE_NAME: BLOOM PEAK
QUADRANT: SE
WEST_LONGITUDE: -115 48 45.00000
EAST_LONGITUDE: -115 45 0.00000
NORTH_LATITUDE: 47 48 45.00000
SOUTH_LATITUDE: 47 45 0.00000
PRODUCTION_DATE: 1997 2 28
RASTER_ORDER: LEFT_RIGHT/TOP_BOTTOM
BAND_ORGANIZATION: SINGLE FILE
BAND_CONTENT: BLACK&WHITE
BAND_CONTENT: UNDEFINED
BAND_CONTENT: UNDEFINED
BITS_PER_PIXEL: 8
SAMPLES_AND_LINES: 5468 7632
HORIZONTAL_DATUM: NAD83
HORIZONTAL_COORDINATE_SYSTEM: UTM
COORDINATE_ZONE: 11
HORIZONTAL_UNITS: METERS
HORIZONTAL_RESOLUTION: 1.00000
SECONDARY_HORIZONTAL_DATUM: NAD27
XY_ORIGIN: 588526.00000 5296518.00000
SECONDARY_XY_ORIGIN: 588603.79100 5296308.39600
NATION: US
STATE: MT
STATE: ID
NW_QUAD_CORNER_XY: 588902.04700 5296143.39200
NE_QUAD_CORNER_XY: 593581.03200 5296217.14900
SE_QUAD_CORNERY_XY: 593693.28000 5289270.95700
SW_QUAD_CORNER_XY: 589008.68100 5289197.18500
SECONDARY_NW_QUAD_XY: 588904.83400 5295924.58100
SECONDARY_NE_QUAD_XY: 593583.96500 5295998.34000
SECONDARY_SE_QUAD_XY: 593696.21300 5289052.16700
SECONDARY_SW_QUAD_XY: 589011.46700 5288978.39200
RMSE_XY: 2.90000
IMAGE_SOURCE: BLACK AND WHITE FILM
SOURCE_IMAGE_ID: NAPP 8421 139
SOURCE_IMAGE_DATE: 1995 8 20
SOURCE_DEM_DATE: 1997 2 28
AGENCY: WESTERN MAPPING CENTER (WMC)
PRODUCER: USFS
PRODUCTION_SYSTEM: DV2.6.3 10/9OV2.4 5/95
COMPRESSION: UNDEFINED
STANDARD_VERSION: 1996 12
METADATA_DATE: 1997 11 2
DATA_FILE_SIZE: 41737244
BYTE_COUNT: 5468
