FILENAME: O4711508.SES.56413.tif
QUADRANGLE_NAME: BEND
QUADRANT: SE
WEST_LONGITUDE: -115 3 45.00000
EAST_LONGITUDE: -115 0 0.00000
NORTH_LATITUDE: 47 56 15.00000
SOUTH_LATITUDE: 47 52 30.00000
PRODUCTION_DATE: 1997 3 20
RASTER_ORDER: LEFT_RIGHT/TOP_BOTTOM
BAND_ORGANIZATION: SINGLE FILE
BAND_CONTENT: BLACK&WHITE
BAND_CONTENT: UNDEFINED
BAND_CONTENT: UNDEFINED
BITS_PER_PIXEL: 8
SAMPLES_AND_LINES: 5524 7676
HORIZONTAL_DATUM: NAD83
HORIZONTAL_COORDINATE_SYSTEM: UTM
COORDINATE_ZONE: 11
HORIZONTAL_UNITS: METERS
HORIZONTAL_RESOLUTION: 1.00000
SECONDARY_HORIZONTAL_DATUM: NAD27
XY_ORIGIN: 644326.00000 5311590.00000
SECONDARY_XY_ORIGIN: 644403.75800 5311379.22400
NATION: US
STATE: MT
NW_QUAD_CORNER_XY: 644700.47900 5311170.35200
NE_QUAD_CORNER_XY: 649368.04700 5311289.47000
SE_QUAD_CORNERY_XY: 649548.04100 5304343.39300
SW_QUAD_CORNER_XY: 644874.84400 5304224.24900
SECONDARY_NW_QUAD_XY: 644705.02700 5310951.54400
SECONDARY_NE_QUAD_XY: 649372.74200 5311070.66600
SECONDARY_SE_QUAD_XY: 649552.73500 5304124.60400
SECONDARY_SW_QUAD_XY: 644879.39200 5304005.45700
RMSE_XY: 3.30000
IMAGE_SOURCE: BLACK AND WHITE FILM
SOURCE_IMAGE_ID: NAPP 8420 36
SOURCE_IMAGE_DATE: 1995 8 20
SOURCE_DEM_DATE: 1997 3 20
AGENCY: WESTERN MAPPING CENTER (WMC)
PRODUCER: USFS
PRODUCTION_SYSTEM: DV2.6.3 10/9OV2.4 5/95
COMPRESSION: UNDEFINED
STANDARD_VERSION: 1996 12
METADATA_DATE: 1997 11 3
DATA_FILE_SIZE: 42407748
BYTE_COUNT: 5524
