FILENAME: O4711508.SWS.56430.tif
QUADRANGLE_NAME: BEND
QUADRANT: SW
WEST_LONGITUDE: -115 7 30.00000
EAST_LONGITUDE: -115 3 45.00000
NORTH_LATITUDE: 47 56 15.00000
SOUTH_LATITUDE: 47 52 30.00000
PRODUCTION_DATE: 1997 3 20
RASTER_ORDER: LEFT_RIGHT/TOP_BOTTOM
BAND_ORGANIZATION: SINGLE FILE
BAND_CONTENT: BLACK&WHITE
BAND_CONTENT: UNDEFINED
BAND_CONTENT: UNDEFINED
BITS_PER_PIXEL: 8
SAMPLES_AND_LINES: 5516 7672
HORIZONTAL_DATUM: NAD83
HORIZONTAL_COORDINATE_SYSTEM: UTM
COORDINATE_ZONE: 11
HORIZONTAL_UNITS: METERS
HORIZONTAL_RESOLUTION: 1.00000
SECONDARY_HORIZONTAL_DATUM: NAD27
XY_ORIGIN: 639658.00000 5311471.00000
SECONDARY_XY_ORIGIN: 639735.00000 5311261.00000
NATION: US
STATE: MT
NW_QUAD_CORNER_XY: 640032.89400 5311055.01800
NE_QUAD_CORNER_XY: 644700.47900 5311170.35200
SE_QUAD_CORNERY_XY: 644874.84400 5304224.24900
SW_QUAD_CORNER_XY: 640201.63000 5304108.89000
SECONDARY_NW_QUAD_XY: 640037.29500 5310836.20700
SECONDARY_NE_QUAD_XY: 644705.02700 5310951.54400
SECONDARY_SE_QUAD_XY: 644879.39200 5304005.45700
SECONDARY_SW_QUAD_XY: 640206.03100 5303890.09400
RMSE_XY: 1.30000
IMAGE_SOURCE: BLACK AND WHITE FILM
SOURCE_IMAGE_ID: NAPP 8420 103
SOURCE_IMAGE_DATE: 1995 8 20
SOURCE_DEM_DATE: 1997 3 20
AGENCY: WESTERN MAPPING CENTER (WMC)
PRODUCER: USFS
PRODUCTION_SYSTEM: DV2.6.3 10/9OV2.4 5/95
COMPRESSION: UNDEFINED
STANDARD_VERSION: 1996 12
METADATA_DATE: 1997 11 3
DATA_FILE_SIZE: 42324268
BYTE_COUNT: 5516
