FILENAME: O4711507.NES.56451.tif
QUADRANGLE_NAME: MANTRAP FORK
QUADRANT: NE
WEST_LONGITUDE: -115 11 15.00000
EAST_LONGITUDE: -115 7 30.00000
NORTH_LATITUDE: 48 0 0.00000
SOUTH_LATITUDE: 47 56 15.00000
PRODUCTION_DATE: 1997 3 15
RASTER_ORDER: LEFT_RIGHT/TOP_BOTTOM
BAND_ORGANIZATION: SINGLE FILE
BAND_CONTENT: BLACK&WHITE
BAND_CONTENT: UNDEFINED
BAND_CONTENT: UNDEFINED
BITS_PER_PIXEL: 8
SAMPLES_AND_LINES: 5508 7669
HORIZONTAL_DATUM: NAD83
HORIZONTAL_COORDINATE_SYSTEM: UTM
COORDINATE_ZONE: 11
HORIZONTAL_UNITS: METERS
HORIZONTAL_RESOLUTION: 1.00000
SECONDARY_HORIZONTAL_DATUM: NAD27
XY_ORIGIN: 634827.00000 5318302.00000
SECONDARY_XY_ORIGIN: 634905.19000 5318091.06600
NATION: US
STATE: MT
NW_QUAD_CORNER_XY: 635202.02000 5317889.69000
NE_QUAD_CORNER_XY: 639863.98900 5318001.21500
SE_QUAD_CORNERY_XY: 640032.89400 5311055.01800
SW_QUAD_CORNER_XY: 635365.29100 5310943.46800
SECONDARY_NW_QUAD_XY: 635206.27500 5317670.85900
SECONDARY_NE_QUAD_XY: 639868.39100 5317782.38800
SECONDARY_SE_QUAD_XY: 640037.29500 5310836.20700
SECONDARY_SW_QUAD_XY: 635369.54500 5310724.65300
RMSE_XY: 3.10000
IMAGE_SOURCE: BLACK AND WHITE FILM
SOURCE_IMAGE_ID: NAPP 8420 172
SOURCE_IMAGE_DATE: 1995 8 20
SOURCE_DEM_DATE: 1997 3 15
AGENCY: WESTERN MAPPING CENTER (WMC)
PRODUCER: USFS
PRODUCTION_SYSTEM: DV2.6.3 10/9OV2.4 5/95
COMPRESSION: UNDEFINED
STANDARD_VERSION: 1996 12
METADATA_DATE: 1997 11 3
DATA_FILE_SIZE: 42246360
BYTE_COUNT: 5508
