FILENAME: O4711507.SES.56450.tif
QUADRANGLE_NAME: MANTRAP FORK
QUADRANT: SE
WEST_LONGITUDE: -115 11 15.00000
EAST_LONGITUDE: -115 7 30.00000
NORTH_LATITUDE: 47 56 15.00000
SOUTH_LATITUDE: 47 52 30.00000
PRODUCTION_DATE: 1997 3 15
RASTER_ORDER: LEFT_RIGHT/TOP_BOTTOM
BAND_ORGANIZATION: SINGLE FILE
BAND_CONTENT: BLACK&WHITE
BAND_CONTENT: UNDEFINED
BAND_CONTENT: UNDEFINED
BITS_PER_PIXEL: 8
SAMPLES_AND_LINES: 5512 7669
HORIZONTAL_DATUM: NAD83
HORIZONTAL_COORDINATE_SYSTEM: UTM
COORDINATE_ZONE: 11
HORIZONTAL_UNITS: METERS
HORIZONTAL_RESOLUTION: 1.00000
SECONDARY_HORIZONTAL_DATUM: NAD27
XY_ORIGIN: 634990.00000 5311356.00000
SECONDARY_XY_ORIGIN: 635068.12300 5311145.28500
NATION: US
STATE: MT
NW_QUAD_CORNER_XY: 635365.29100 5310943.46800
NE_QUAD_CORNER_XY: 640032.89400 5311055.01800
SE_QUAD_CORNERY_XY: 640201.63000 5304108.89000
SW_QUAD_CORNER_XY: 635528.40000 5303997.31500
SECONDARY_NW_QUAD_XY: 635369.54500 5310724.65300
SECONDARY_NE_QUAD_XY: 640037.29500 5310836.20700
SECONDARY_SE_QUAD_XY: 640206.03100 5303890.09400
SECONDARY_SW_QUAD_XY: 635532.65400 5303778.51600
RMSE_XY: 1.50000
IMAGE_SOURCE: BLACK AND WHITE FILM
SOURCE_IMAGE_ID: NAPP 8420 174
SOURCE_IMAGE_DATE: 1995 8 20
SOURCE_DEM_DATE: 1997 3 15
AGENCY: WESTERN MAPPING CENTER (WMC)
PRODUCER: USFS
PRODUCTION_SYSTEM: DV2.6.3 10/9OV2.4 5/95
COMPRESSION: UNDEFINED
STANDARD_VERSION: 1996 12
METADATA_DATE: 1997 11 3
DATA_FILE_SIZE: 42277040
BYTE_COUNT: 5512
