FILENAME: O4711506.NES.56491.tif
QUADRANGLE_NAME: MILLER LAKE
QUADRANT: NE
WEST_LONGITUDE: -115 18 45.00000
EAST_LONGITUDE: -115 15 0.00000
NORTH_LATITUDE: 48 0 0.00000
SOUTH_LATITUDE: 47 56 15.00000
PRODUCTION_DATE: 1997 3 15
RASTER_ORDER: LEFT_RIGHT/TOP_BOTTOM
BAND_ORGANIZATION: SINGLE FILE
BAND_CONTENT: BLACK&WHITE
BAND_CONTENT: UNDEFINED
BAND_CONTENT: UNDEFINED
BITS_PER_PIXEL: 8
SAMPLES_AND_LINES: 5496 7661
HORIZONTAL_DATUM: NAD83
HORIZONTAL_COORDINATE_SYSTEM: UTM
COORDINATE_ZONE: 11
HORIZONTAL_UNITS: METERS
HORIZONTAL_RESOLUTION: 1.00000
SECONDARY_HORIZONTAL_DATUM: NAD27
XY_ORIGIN: 625502.00000 5318083.00000
SECONDARY_XY_ORIGIN: 625580.00000 5317873.00000
NATION: US
STATE: MT
NW_QUAD_CORNER_XY: 625878.03200 5317677.98700
NE_QUAD_CORNER_XY: 630540.03400 5317781.94700
SE_QUAD_CORNERY_XY: 630697.67200 5310835.70100
SW_QUAD_CORNER_XY: 626030.03700 5310731.71800
SECONDARY_NW_QUAD_XY: 625881.99300 5317459.15000
SECONDARY_NE_QUAD_XY: 630544.14200 5317563.11300
SECONDARY_SE_QUAD_XY: 630701.78000 5310616.88300
SECONDARY_SW_QUAD_XY: 626033.99800 5310512.89600
RMSE_XY: 2.40000
IMAGE_SOURCE: BLACK AND WHITE FILM
SOURCE_IMAGE_ID: NAPP 8418 85
SOURCE_IMAGE_DATE: 1995 8 5
SOURCE_DEM_DATE: 1997 3 15
AGENCY: WESTERN MAPPING CENTER (WMC)
PRODUCER: USFS
PRODUCTION_SYSTEM: DV2.6.3 10/9OV2.4 5/95
COMPRESSION: UNDEFINED
STANDARD_VERSION: 1996 12
METADATA_DATE: 1997 11 3
DATA_FILE_SIZE: 42110352
BYTE_COUNT: 5496
