FILENAME: O4711506.SWS.56509.tif
QUADRANGLE_NAME: MILLER LAKE
QUADRANT: SW
WEST_LONGITUDE: -115 22 30.00000
EAST_LONGITUDE: -115 18 45.00000
NORTH_LATITUDE: 47 56 15.00000
SOUTH_LATITUDE: 47 52 30.00000
PRODUCTION_DATE: 1997 3 15
RASTER_ORDER: LEFT_RIGHT/TOP_BOTTOM
BAND_ORGANIZATION: SINGLE FILE
BAND_CONTENT: BLACK&WHITE
BAND_CONTENT: UNDEFINED
BAND_CONTENT: UNDEFINED
BITS_PER_PIXEL: 8
SAMPLES_AND_LINES: 5496 7658
HORIZONTAL_DATUM: NAD83
HORIZONTAL_COORDINATE_SYSTEM: UTM
COORDINATE_ZONE: 11
HORIZONTAL_UNITS: METERS
HORIZONTAL_RESOLUTION: 1.00000
SECONDARY_HORIZONTAL_DATUM: NAD27
XY_ORIGIN: 620987.00000 5311033.00000
SECONDARY_XY_ORIGIN: 621065.56400 5310822.35000
NATION: US
STATE: MT
NW_QUAD_CORNER_XY: 621362.38700 5310631.51800
NE_QUAD_CORNER_XY: 626030.03700 5310731.71800
SE_QUAD_CORNERY_XY: 626181.89100 5303785.51800
SW_QUAD_CORNER_XY: 621508.61500 5303685.29600
SECONDARY_NW_QUAD_XY: 621366.20200 5310412.69200
SECONDARY_NE_QUAD_XY: 626033.99800 5310512.89600
SECONDARY_SE_QUAD_XY: 626185.85200 5303566.71200
SECONDARY_SW_QUAD_XY: 621512.42900 5303466.48700
RMSE_XY: 3.90000
IMAGE_SOURCE: BLACK AND WHITE FILM
SOURCE_IMAGE_ID: NAPP 8418 36
SOURCE_IMAGE_DATE: 1995 8 5
SOURCE_DEM_DATE: 1997 3 15
AGENCY: WESTERN MAPPING CENTER (WMC)
PRODUCER: USFS
PRODUCTION_SYSTEM: DV2.6.3 10/9OV2.4 5/95
COMPRESSION: UNDEFINED
STANDARD_VERSION: 1996 12
METADATA_DATE: 1997 11 3
DATA_FILE_SIZE: 42093864
BYTE_COUNT: 5496
