FILENAME: O4711505.SES.56531.tif
QUADRANGLE_NAME: SILVER BUTTE PASS
QUADRANT: SE
WEST_LONGITUDE: -115 26 15.00000
EAST_LONGITUDE: -115 22 30.00000
NORTH_LATITUDE: 47 56 15.00000
SOUTH_LATITUDE: 47 52 30.00000
PRODUCTION_DATE: 1997 3 25
RASTER_ORDER: LEFT_RIGHT/TOP_BOTTOM
BAND_ORGANIZATION: SINGLE FILE
BAND_CONTENT: BLACK&WHITE
BAND_CONTENT: UNDEFINED
BAND_CONTENT: UNDEFINED
BITS_PER_PIXEL: 8
SAMPLES_AND_LINES: 5492 7655
HORIZONTAL_DATUM: NAD83
HORIZONTAL_COORDINATE_SYSTEM: UTM
COORDINATE_ZONE: 11
HORIZONTAL_UNITS: METERS
HORIZONTAL_RESOLUTION: 1.00000
SECONDARY_HORIZONTAL_DATUM: NAD27
XY_ORIGIN: 616319.00000 5310933.00000
SECONDARY_XY_ORIGIN: 616397.69400 5310722.36700
NATION: US
STATE: MT
NW_QUAD_CORNER_XY: 616694.72300 5310535.10000
NE_QUAD_CORNER_XY: 621362.38700 5310631.51800
SE_QUAD_CORNERY_XY: 621508.61500 5303685.29600
SW_QUAD_CORNER_XY: 616835.32300 5303588.85700
SECONDARY_NW_QUAD_XY: 616698.39000 5310316.27200
SECONDARY_NE_QUAD_XY: 621366.20200 5310412.69200
SECONDARY_SE_QUAD_XY: 621512.42900 5303466.48700
SECONDARY_SW_QUAD_XY: 616838.99100 5303370.04500
RMSE_XY: 2.70000
IMAGE_SOURCE: BLACK AND WHITE FILM
SOURCE_IMAGE_ID: NAPP 8421 24
SOURCE_IMAGE_DATE: 1995 8 20
SOURCE_DEM_DATE: 1997 3 25
AGENCY: WESTERN MAPPING CENTER (WMC)
PRODUCER: USFS
PRODUCTION_SYSTEM: DV2.6.3 10/9OV2.4 5/95
COMPRESSION: UNDEFINED
STANDARD_VERSION: 1996 12
METADATA_DATE: 1997 11 2
DATA_FILE_SIZE: 42046752
BYTE_COUNT: 5492
