FILENAME: O4711505.SWS.56553.tif
QUADRANGLE_NAME: SILVER BUTTE PASS
QUADRANT: SW
WEST_LONGITUDE: -115 30 0.00000
EAST_LONGITUDE: -115 26 15.00000
NORTH_LATITUDE: 47 56 15.00000
SOUTH_LATITUDE: 47 52 30.00000
PRODUCTION_DATE: 1997 3 24
RASTER_ORDER: LEFT_RIGHT/TOP_BOTTOM
BAND_ORGANIZATION: SINGLE FILE
BAND_CONTENT: BLACK&WHITE
BAND_CONTENT: UNDEFINED
BAND_CONTENT: UNDEFINED
BITS_PER_PIXEL: 8
SAMPLES_AND_LINES: 5484 7650
HORIZONTAL_DATUM: NAD83
HORIZONTAL_COORDINATE_SYSTEM: UTM
COORDINATE_ZONE: 11
HORIZONTAL_UNITS: METERS
HORIZONTAL_RESOLUTION: 1.00000
SECONDARY_HORIZONTAL_DATUM: NAD27
XY_ORIGIN: 611651.00000 5310836.00000
SECONDARY_XY_ORIGIN: 611729.80200 5310625.39400
NATION: US
STATE: MT
NW_QUAD_CORNER_XY: 612027.04400 5310442.46500
NE_QUAD_CORNER_XY: 616694.72300 5310535.10000
SE_QUAD_CORNERY_XY: 616835.32300 5303588.85700
SW_QUAD_CORNER_XY: 612162.01800 5303496.20200
SECONDARY_NW_QUAD_XY: 612030.56500 5310223.63400
SECONDARY_NE_QUAD_XY: 616698.39000 5310316.27200
SECONDARY_SE_QUAD_XY: 616838.99100 5303370.04500
SECONDARY_SW_QUAD_XY: 612165.53900 5303277.38700
RMSE_XY: 3.30000
IMAGE_SOURCE: BLACK AND WHITE FILM
SOURCE_IMAGE_ID: NAPP 8422 99
SOURCE_IMAGE_DATE: 1995 7 28
SOURCE_DEM_DATE: 1997 3 24
AGENCY: WESTERN MAPPING CENTER (WMC)
PRODUCER: USFS
PRODUCTION_SYSTEM: DV2.6.3 10/9OV2.4 5/95
COMPRESSION: UNDEFINED
STANDARD_VERSION: 1996 12
METADATA_DATE: 1997 11 2
DATA_FILE_SIZE: 41958084
BYTE_COUNT: 5484
