FILENAME: O4711504.NES.56576.tif
QUADRANGLE_NAME: GOAT PEAK
QUADRANT: NE
WEST_LONGITUDE: -115 33 45.00000
EAST_LONGITUDE: -115 30 0.00000
NORTH_LATITUDE: 48 0 0.00000
SOUTH_LATITUDE: 47 56 15.00000
PRODUCTION_DATE: 1997 3 18
RASTER_ORDER: LEFT_RIGHT/TOP_BOTTOM
BAND_ORGANIZATION: SINGLE FILE
BAND_CONTENT: BLACK&WHITE
BAND_CONTENT: UNDEFINED
BAND_CONTENT: UNDEFINED
BITS_PER_PIXEL: 8
SAMPLES_AND_LINES: 5473 7648
HORIZONTAL_DATUM: NAD83
HORIZONTAL_COORDINATE_SYSTEM: UTM
COORDINATE_ZONE: 11
HORIZONTAL_UNITS: METERS
HORIZONTAL_RESOLUTION: 1.00000
SECONDARY_HORIZONTAL_DATUM: NAD27
XY_ORIGIN: 606854.00000 5317694.00000
SECONDARY_XY_ORIGIN: 606932.65000 5317483.35000
NATION: US
STATE: MT
NW_QUAD_CORNER_XY: 607229.94000 5317299.93000
NE_QUAD_CORNER_XY: 611892.00000 5317388.76000
SE_QUAD_CORNERY_XY: 612027.11000 5310442.42000
SW_QUAD_CORNER_XY: 607359.42000 5310353.57000
SECONDARY_NW_QUAD_XY: 607233.32000 5317081.08000
SECONDARY_NE_QUAD_XY: 611895.52000 5317169.91000
SECONDARY_SE_QUAD_XY: 612030.63000 5310223.59000
SECONDARY_SW_QUAD_XY: 607362.79000 5310134.74000
RMSE_XY: 2.00000
IMAGE_SOURCE: BLACK AND WHITE FILM
SOURCE_IMAGE_ID: NAPP 8422 58
SOURCE_IMAGE_DATE: 1995 7 28
SOURCE_IMAGE_ID: NAPP 8422 60
SOURCE_IMAGE_DATE: 1995 7 28
SOURCE_DEM_DATE: 1997 3 18
AGENCY: WESTERN MAPPING CENTER (WMC)
PRODUCER: USFS
PRODUCTION_SYSTEM: DV2.6.3 10/9OV2.4 5/95
COMPRESSION: UNDEFINED
STANDARD_VERSION: 1996 12
METADATA_DATE: 1997 11 2
DATA_FILE_SIZE: 41862977
BYTE_COUNT: 5473
