FILENAME: O4711504.SES.56575.tif
QUADRANGLE_NAME: GOAT PEAK
QUADRANT: SE
WEST_LONGITUDE: -115 33 45.00000
EAST_LONGITUDE: -115 30 0.00000
NORTH_LATITUDE: 47 56 15.00000
SOUTH_LATITUDE: 47 52 30.00000
PRODUCTION_DATE: 1997 3 19
RASTER_ORDER: LEFT_RIGHT/TOP_BOTTOM
BAND_ORGANIZATION: SINGLE FILE
BAND_CONTENT: BLACK&WHITE
BAND_CONTENT: UNDEFINED
BAND_CONTENT: UNDEFINED
BITS_PER_PIXEL: 8
SAMPLES_AND_LINES: 5480 7646
HORIZONTAL_DATUM: NAD83
HORIZONTAL_COORDINATE_SYSTEM: UTM
COORDINATE_ZONE: 11
HORIZONTAL_UNITS: METERS
HORIZONTAL_RESOLUTION: 1.00000
SECONDARY_HORIZONTAL_DATUM: NAD27
XY_ORIGIN: 606983.00000 5310743.00000
SECONDARY_XY_ORIGIN: 607061.56600 5310532.55400
NATION: US
STATE: MT
NW_QUAD_CORNER_XY: 607359.35200 5310353.61300
NE_QUAD_CORNER_XY: 612027.04400 5310442.46500
SE_QUAD_CORNERY_XY: 612162.01800 5303496.20200
SW_QUAD_CORNER_XY: 607488.70000 5303407.33000
SECONDARY_NW_QUAD_XY: 607362.72600 5310134.77900
SECONDARY_NE_QUAD_XY: 612030.56500 5310223.63400
SECONDARY_SE_QUAD_XY: 612165.53900 5303277.38700
SECONDARY_SW_QUAD_XY: 607492.07400 5303188.51200
RMSE_XY: 2.40000
IMAGE_SOURCE: BLACK AND WHITE FILM
SOURCE_IMAGE_ID: NAPP 8422 56
SOURCE_IMAGE_DATE: 1995 7 28
SOURCE_DEM_DATE: 1997 3 19
AGENCY: WESTERN MAPPING CENTER (WMC)
PRODUCER: USFS
PRODUCTION_SYSTEM: DV2.6.3 10/9OV2.4 5/95
COMPRESSION: UNDEFINED
STANDARD_VERSION: 1996 12
METADATA_DATE: 1997 11 2
DATA_FILE_SIZE: 41905560
BYTE_COUNT: 5480
