FILENAME: O4711504.SWS.56597.tif
QUADRANGLE_NAME: GOAT PEAK
QUADRANT: SW
WEST_LONGITUDE: -115 37 30.00000
EAST_LONGITUDE: -115 33 45.00000
NORTH_LATITUDE: 47 56 15.00000
SOUTH_LATITUDE: 47 52 30.00000
PRODUCTION_DATE: 1997 3 18
RASTER_ORDER: LEFT_RIGHT/TOP_BOTTOM
BAND_ORGANIZATION: SINGLE FILE
BAND_CONTENT: BLACK&WHITE
BAND_CONTENT: UNDEFINED
BAND_CONTENT: UNDEFINED
BITS_PER_PIXEL: 8
SAMPLES_AND_LINES: 5472 7643
HORIZONTAL_DATUM: NAD83
HORIZONTAL_COORDINATE_SYSTEM: UTM
COORDINATE_ZONE: 11
HORIZONTAL_UNITS: METERS
HORIZONTAL_RESOLUTION: 1.00000
SECONDARY_HORIZONTAL_DATUM: NAD27
XY_ORIGIN: 602316.00000 5310655.00000
SECONDARY_XY_ORIGIN: 602394.33000 5310444.71400
NATION: US
STATE: MT
NW_QUAD_CORNER_XY: 602691.65000 5310268.54000
NE_QUAD_CORNER_XY: 607359.35000 5310353.61000
SE_QUAD_CORNERY_XY: 607488.70000 5303407.33000
SW_QUAD_CORNER_XY: 602815.37000 5303322.24000
SECONDARY_NW_QUAD_XY: 602694.87000 5310049.70000
SECONDARY_NE_QUAD_XY: 607362.73000 5310134.78000
SECONDARY_SE_QUAD_XY: 607492.07000 5303188.51000
SECONDARY_SW_QUAD_XY: 602818.60000 5303103.42000
RMSE_XY: 2.80000
IMAGE_SOURCE: BLACK AND WHITE FILM
SOURCE_IMAGE_ID: NAPP 8421 81
SOURCE_IMAGE_DATE: 1995 8 20
SOURCE_DEM_DATE: 1997 3 18
AGENCY: WESTERN MAPPING CENTER (WMC)
PRODUCER: USFS
PRODUCTION_SYSTEM: DV2.6.3 10/9OV2.4 5/95
COMPRESSION: UNDEFINED
STANDARD_VERSION: 1996 12
METADATA_DATE: 1997 11 2
DATA_FILE_SIZE: 41827968
BYTE_COUNT: 5472
