FILENAME: O4711502.NES.56668.tif
QUADRANGLE_NAME: NOXON
QUADRANT: NE
WEST_LONGITUDE: -115 48 45.00000
EAST_LONGITUDE: -115 45 0.00000
NORTH_LATITUDE: 48 0 0.00000
SOUTH_LATITUDE: 47 56 15.00000
PRODUCTION_DATE: 1997 2 27
RASTER_ORDER: LEFT_RIGHT/TOP_BOTTOM
BAND_ORGANIZATION: SINGLE FILE
BAND_CONTENT: BLACK&WHITE
BAND_CONTENT: UNDEFINED
BAND_CONTENT: UNDEFINED
BITS_PER_PIXEL: 8
SAMPLES_AND_LINES: 5452 7632
HORIZONTAL_DATUM: NAD83
HORIZONTAL_COORDINATE_SYSTEM: UTM
COORDINATE_ZONE: 11
HORIZONTAL_UNITS: METERS
HORIZONTAL_RESOLUTION: 1.00000
SECONDARY_HORIZONTAL_DATUM: NAD27
XY_ORIGIN: 588206.00000 5317357.00000
SECONDARY_XY_ORIGIN: 588283.74700 5317147.03200
NATION: US
STATE: MT
NW_QUAD_CORNER_XY: 588581.50600 5316982.44900
NE_QUAD_CORNER_XY: 593243.61600 5317056.15700
SE_QUAD_CORNERY_XY: 593356.20000 5310109.74800
SW_QUAD_CORNER_XY: 588688.45900 5310036.02400
SECONDARY_NW_QUAD_XY: 588584.29300 5316763.59000
SECONDARY_NE_QUAD_XY: 593246.55000 5316837.30000
SECONDARY_SE_QUAD_XY: 593359.13400 5309890.90700
SECONDARY_SW_QUAD_XY: 588691.24600 5309817.18000
RMSE_XY: 0.80000
IMAGE_SOURCE: BLACK AND WHITE FILM
SOURCE_IMAGE_ID: NAPP 8421 145
SOURCE_IMAGE_DATE: 1995 8 20
SOURCE_DEM_DATE: 1997 2 27
AGENCY: WESTERN MAPPING CENTER (WMC)
PRODUCER: USFS
PRODUCTION_SYSTEM: DV2.6.3 10/9OV2.4 5/95
COMPRESSION: UNDEFINED
STANDARD_VERSION: 1996 12
METADATA_DATE: 1997 11 2
DATA_FILE_SIZE: 41615116
BYTE_COUNT: 5452
