FILENAME: O4711501.NES.56710.tif
QUADRANGLE_NAME: GEM PEAK
QUADRANT: NE
WEST_LONGITUDE: -115 56 15.00000
EAST_LONGITUDE: -115 52 30.00000
NORTH_LATITUDE: 48 0 0.00000
SOUTH_LATITUDE: 47 56 15.00000
PRODUCTION_DATE: 1997 2 20
RASTER_ORDER: LEFT_RIGHT/TOP_BOTTOM
BAND_ORGANIZATION: SINGLE FILE
BAND_CONTENT: BLACK&WHITE
BAND_CONTENT: UNDEFINED
BAND_CONTENT: UNDEFINED
BITS_PER_PIXEL: 8
SAMPLES_AND_LINES: 5440 7625
HORIZONTAL_DATUM: NAD83
HORIZONTAL_COORDINATE_SYSTEM: UTM
COORDINATE_ZONE: 11
HORIZONTAL_UNITS: METERS
HORIZONTAL_RESOLUTION: 1.00000
SECONDARY_HORIZONTAL_DATUM: NAD27
XY_ORIGIN: 578881.00000 5317214.00000
SECONDARY_XY_ORIGIN: 578958.00000 5317005.00000
NATION: US
STATE: MT
NW_QUAD_CORNER_XY: 579257.25000 5316846.38000
NE_QUAD_CORNER_XY: 583919.38000 5316912.52000
SE_QUAD_CORNERY_XY: 584020.71000 5309966.08000
SW_QUAD_CORNER_XY: 579352.95000 5309899.92000
SECONDARY_NW_QUAD_XY: 579259.75000 5316627.51000
SECONDARY_NE_QUAD_XY: 583922.03000 5316693.66000
SECONDARY_SE_QUAD_XY: 584023.35000 5309747.24000
SECONDARY_SW_QUAD_XY: 579355.44000 5309681.07000
RMSE_XY: 2.60000
IMAGE_SOURCE: BLACK AND WHITE FILM
SOURCE_IMAGE_ID: NAPP 8422 27
SOURCE_IMAGE_DATE: 1995 7 28
SOURCE_DEM_DATE: 1997 2 20
AGENCY: WESTERN MAPPING CENTER (WMC)
PRODUCER: USFS
PRODUCTION_SYSTEM: DV2.6.3 10/9OV2.4 5/95
COMPRESSION: UNDEFINED
STANDARD_VERSION: 1996 12
METADATA_DATE: 1997 11 2
DATA_FILE_SIZE: 41485440
BYTE_COUNT: 5440
