FILENAME: O4711501.NWS.56730.tif
QUADRANGLE_NAME: GEM PEAK
QUADRANT: NW
WEST_LONGITUDE: -116 0 0.00000
EAST_LONGITUDE: -115 56 15.00000
NORTH_LATITUDE: 48 0 0.00000
SOUTH_LATITUDE: 47 56 15.00000
PRODUCTION_DATE: 1997 2 20
RASTER_ORDER: LEFT_RIGHT/TOP_BOTTOM
BAND_ORGANIZATION: SINGLE FILE
BAND_CONTENT: BLACK&WHITE
BAND_CONTENT: UNDEFINED
BAND_CONTENT: UNDEFINED
BITS_PER_PIXEL: 8
SAMPLES_AND_LINES: 5436 7621
HORIZONTAL_DATUM: NAD83
HORIZONTAL_COORDINATE_SYSTEM: UTM
COORDINATE_ZONE: 11
HORIZONTAL_UNITS: METERS
HORIZONTAL_RESOLUTION: 1.00000
SECONDARY_HORIZONTAL_DATUM: NAD27
XY_ORIGIN: 574219.00000 5317147.00000
SECONDARY_XY_ORIGIN: 574296.45700 5316937.45800
NATION: US
STATE: MT
STATE: ID
NW_QUAD_CORNER_XY: 574595.11200 5316784.00900
NE_QUAD_CORNER_XY: 579257.25300 5316846.37500
SE_QUAD_CORNERY_XY: 579352.94600 5309899.92000
SW_QUAD_CORNER_XY: 574685.17500 5309837.54000
SECONDARY_NW_QUAD_XY: 574597.46000 5316565.14400
SECONDARY_NE_QUAD_XY: 579259.74800 5316627.51200
SECONDARY_SE_QUAD_XY: 579355.44000 5309681.07200
SECONDARY_SW_QUAD_XY: 574687.52300 5309618.69000
RMSE_XY: 2.70000
IMAGE_SOURCE: BLACK AND WHITE FILM
SOURCE_IMAGE_ID: NAPP 8419 100
SOURCE_IMAGE_DATE: 1995 8 21
SOURCE_DEM_DATE: 1997 2 20
AGENCY: WESTERN MAPPING CENTER (WMC)
PRODUCER: USFS
PRODUCTION_SYSTEM: DV2.6.3 10/9OV2.4 5/95
COMPRESSION: UNDEFINED
STANDARD_VERSION: 1996 12
METADATA_DATE: 1997 11 2
DATA_FILE_SIZE: 41433192
BYTE_COUNT: 5436
