FILENAME: O4711501.SWS.56729.tif
QUADRANGLE_NAME: GEM PEAK
QUADRANT: SW
WEST_LONGITUDE: -116 0 0.00000
EAST_LONGITUDE: -115 56 15.00000
NORTH_LATITUDE: 47 56 15.00000
SOUTH_LATITUDE: 47 52 30.00000
PRODUCTION_DATE: 1997 2 20
RASTER_ORDER: LEFT_RIGHT/TOP_BOTTOM
BAND_ORGANIZATION: SINGLE FILE
BAND_CONTENT: BLACK&WHITE
BAND_CONTENT: UNDEFINED
BAND_CONTENT: UNDEFINED
BITS_PER_PIXEL: 8
SAMPLES_AND_LINES: 5440 7621
HORIZONTAL_DATUM: NAD83
HORIZONTAL_COORDINATE_SYSTEM: UTM
COORDINATE_ZONE: 11
HORIZONTAL_UNITS: METERS
HORIZONTAL_RESOLUTION: 1.00000
SECONDARY_HORIZONTAL_DATUM: NAD27
XY_ORIGIN: 574309.00000 5310201.00000
SECONDARY_XY_ORIGIN: 574386.49900 5309991.55300
NATION: US
STATE: MT
STATE: ID
NW_QUAD_CORNER_XY: 574685.17500 5309837.54000
NE_QUAD_CORNER_XY: 579352.94600 5309899.92000
SE_QUAD_CORNERY_XY: 579448.54400 5302953.53800
SW_QUAD_CORNER_XY: 574775.14900 5302891.14400
SECONDARY_NW_QUAD_XY: 574687.52300 5309618.69000
SECONDARY_NE_QUAD_XY: 579355.44000 5309681.07200
SECONDARY_SE_QUAD_XY: 579451.03800 5302734.70600
SECONDARY_SW_QUAD_XY: 574777.49600 5302672.31000
RMSE_XY: 2.10000
IMAGE_SOURCE: BLACK AND WHITE FILM
SOURCE_IMAGE_ID: NAPP 8419 102
SOURCE_IMAGE_DATE: 1995 8 21
SOURCE_DEM_DATE: 1997 2 20
AGENCY: WESTERN MAPPING CENTER (WMC)
PRODUCER: USFS
PRODUCTION_SYSTEM: DV2.6.3 10/9OV2.4 5/95
COMPRESSION: UNDEFINED
STANDARD_VERSION: 1996 12
METADATA_DATE: 1997 11 2
DATA_FILE_SIZE: 41463680
BYTE_COUNT: 5440
