FILENAME: O4810464.SWS.1134914.tif
QUADRANGLE_NAME: BAINVILLE SE
QUADRANT: SW
WEST_LONGITUDE: -104 7 30.00000
EAST_LONGITUDE: -104 3 45.00000
NORTH_LATITUDE: 48 3 45.00000
SOUTH_LATITUDE: 48 0 0.00000
PRODUCTION_DATE: 2001 3 9
RASTER_ORDER: LEFT_RIGHT/TOP_BOTTOM
BAND_ORGANIZATION: SINGLE FILE
BAND_CONTENT: BLACK&WHITE
BAND_CONTENT: UNDEFINED
BAND_CONTENT: UNDEFINED
BITS_PER_PIXEL: 8
SAMPLES_AND_LINES: 5388 7614
HORIZONTAL_DATUM: NAD83
HORIZONTAL_COORDINATE_SYSTEM: UTM
COORDINATE_ZONE: 13
HORIZONTAL_UNITS: meters
HORIZONTAL_RESOLUTION: 1.00000
SECONDARY_HORIZONTAL_DATUM: NAD27
XY_ORIGIN: 564850.00000 5323979.00000
SECONDARY_XY_ORIGIN: 564888.83800 5323758.25600
NATION: US
STATE: MT
NW_QUAD_CORNER_XY: 565191.92200 5323617.18700
NE_QUAD_CORNER_XY: 569848.44500 5323671.98000
SE_QUAD_CORNERY_XY: 569932.96200 5316725.42400
SW_QUAD_CORNER_XY: 565270.80400 5316670.61800
SECONDARY_NW_QUAD_XY: 565193.97600 5323398.30400
SECONDARY_NE_QUAD_XY: 569850.64600 5323453.09800
SECONDARY_SE_QUAD_XY: 569935.16300 5316506.55600
SECONDARY_SW_QUAD_XY: 565272.85800 5316451.74900
RMSE_XY: 2.49000
IMAGE_SOURCE: BLACK AND WHITE FILM
SOURCE_IMAGE_ID: NAPP 8631-034
SOURCE_IMAGE_DATE: 1995 7 28
SOURCE_IMAGE_ID: NAPP 8631-033
SOURCE_IMAGE_DATE: 1995 7 28
SOURCE_DEM_DATE: 1995 6 1
AGENCY: WESTERN MAPPING CENTER (WMC)
PRODUCER: WOOLPERT LLP
PRODUCTION_SYSTEM: INTERGRAPH ISPM, ISIR
COMPRESSION: UNDEFINED
STANDARD_VERSION: 1996 12
METADATA_DATE: 2001 3 27
DATA_FILE_SIZE: 41029620
BYTE_COUNT: 5388
