FILENAME: O4810463.NES.1134905.tif
QUADRANGLE_NAME: BAINVILLE SW
QUADRANT: NE
WEST_LONGITUDE: -104 11 15.00000
EAST_LONGITUDE: -104 7 30.00000
NORTH_LATITUDE: 48 7 30.00000
SOUTH_LATITUDE: 48 3 45.00000
PRODUCTION_DATE: 2001 3 9
RASTER_ORDER: LEFT_RIGHT/TOP_BOTTOM
BAND_ORGANIZATION: SINGLE FILE
BAND_CONTENT: BLACK&WHITE
BAND_CONTENT: UNDEFINED
BAND_CONTENT: UNDEFINED
BITS_PER_PIXEL: 8
SAMPLES_AND_LINES: 5377 7610
HORIZONTAL_DATUM: NAD83
HORIZONTAL_COORDINATE_SYSTEM: UTM
COORDINATE_ZONE: 13
HORIZONTAL_UNITS: meters
HORIZONTAL_RESOLUTION: 1.00000
SECONDARY_HORIZONTAL_DATUM: NAD27
XY_ORIGIN: 560120.00000 5330871.00000
SECONDARY_XY_ORIGIN: 560158.86800 5330650.17300
NATION: US
STATE: MT
NW_QUAD_CORNER_XY: 560462.07100 5330512.82900
NE_QUAD_CORNER_XY: 565112.96200 5330563.83000
SE_QUAD_CORNERY_XY: 565191.92200 5323617.18700
SW_QUAD_CORNER_XY: 560535.39000 5323566.17400
SECONDARY_NW_QUAD_XY: 560463.97900 5330293.93000
SECONDARY_NE_QUAD_XY: 565115.01600 5330344.93300
SECONDARY_SE_QUAD_XY: 565193.97600 5323398.30400
SECONDARY_SW_QUAD_XY: 560537.29800 5323347.28900
RMSE_XY: 2.43000
IMAGE_SOURCE: BLACK AND WHITE FILM
SOURCE_IMAGE_ID: NAPP 9123-137
SOURCE_IMAGE_DATE: 1997 8 3
SOURCE_IMAGE_ID: NAPP 8631-033
SOURCE_IMAGE_DATE: 1995 7 28
SOURCE_DEM_DATE: 1996 0 0
AGENCY: WESTERN MAPPING CENTER (WMC)
PRODUCER: WOOLPERT LLP
PRODUCTION_SYSTEM: INTERGRAPH ISPM, ISIR
COMPRESSION: UNDEFINED
STANDARD_VERSION: 1996 12
METADATA_DATE: 2001 3 28
DATA_FILE_SIZE: 40924347
BYTE_COUNT: 5377
