FILENAME: O4810462.NWS.1134894.tif
QUADRANGLE_NAME: CEDAR COULEE
QUADRANT: NW
WEST_LONGITUDE: -104 22 30.00000
EAST_LONGITUDE: -104 18 45.00000
NORTH_LATITUDE: 48 7 30.00000
SOUTH_LATITUDE: 48 3 45.00000
PRODUCTION_DATE: 2001 3 15
RASTER_ORDER: LEFT_RIGHT/TOP_BOTTOM
BAND_ORGANIZATION: SINGLE FILE
BAND_CONTENT: BLACK&WHITE
BAND_CONTENT: UNDEFINED
BAND_CONTENT: UNDEFINED
BITS_PER_PIXEL: 8
SAMPLES_AND_LINES: 5362 7600
HORIZONTAL_DATUM: NAD83
HORIZONTAL_COORDINATE_SYSTEM: UTM
COORDINATE_ZONE: 13
HORIZONTAL_UNITS: meters
HORIZONTAL_RESOLUTION: 1.00000
SECONDARY_HORIZONTAL_DATUM: NAD27
XY_ORIGIN: 546166.00000 5330730.00000
SECONDARY_XY_ORIGIN: 546205.03800 5330509.14400
NATION: US
STATE: MT
NW_QUAD_CORNER_XY: 546509.35400 5330382.49300
NE_QUAD_CORNER_XY: 551160.26600 5330422.16000
SE_QUAD_CORNERY_XY: 551222.30500 5323475.48400
SW_QUAD_CORNER_XY: 546565.75200 5323435.80800
SECONDARY_NW_QUAD_XY: 546510.82100 5330163.59100
SECONDARY_NE_QUAD_XY: 551161.88000 5330203.25900
SECONDARY_SE_QUAD_XY: 551223.91900 5323256.59600
SECONDARY_SW_QUAD_XY: 546567.21900 5323216.91900
RMSE_XY: 2.42000
IMAGE_SOURCE: BLACK AND WHITE FILM
SOURCE_IMAGE_ID: NAPP 9095-092
SOURCE_IMAGE_DATE: 1996 7 9
SOURCE_IMAGE_ID: NAPP 9095-091
SOURCE_IMAGE_DATE: 1996 7 9
SOURCE_DEM_DATE: 1998 0 0
AGENCY: WESTERN MAPPING CENTER (WMC)
PRODUCER: WOOLPERT LLP
PRODUCTION_SYSTEM: INTERGRAPH ISPM, ISIR
COMPRESSION: UNDEFINED
STANDARD_VERSION: 1996 12
METADATA_DATE: 2001 3 28
DATA_FILE_SIZE: 40756562
BYTE_COUNT: 5362
