FILENAME: O4810461.NWS.1134882.tif
QUADRANGLE_NAME: THREE BUTTES
QUADRANT: NW
WEST_LONGITUDE: -104 30 0.00000
EAST_LONGITUDE: -104 26 15.00000
NORTH_LATITUDE: 48 7 30.00000
SOUTH_LATITUDE: 48 3 45.00000
PRODUCTION_DATE: 2001 3 15
RASTER_ORDER: LEFT_RIGHT/TOP_BOTTOM
BAND_ORGANIZATION: SINGLE FILE
BAND_CONTENT: BLACK&WHITE
BAND_CONTENT: UNDEFINED
BAND_CONTENT: UNDEFINED
BITS_PER_PIXEL: 8
SAMPLES_AND_LINES: 5351 7592
HORIZONTAL_DATUM: NAD83
HORIZONTAL_COORDINATE_SYSTEM: UTM
COORDINATE_ZONE: 13
HORIZONTAL_UNITS: meters
HORIZONTAL_RESOLUTION: 1.00000
SECONDARY_HORIZONTAL_DATUM: NAD27
XY_ORIGIN: 536864.00000 5330654.00000
SECONDARY_XY_ORIGIN: 536903.14200 5330433.11000
NATION: US
STATE: MT
NW_QUAD_CORNER_XY: 537207.51200 5330314.49400
NE_QUAD_CORNER_XY: 541858.43500 5330346.60400
SE_QUAD_CORNERY_XY: 541909.19300 5323399.91100
SW_QUAD_CORNER_XY: 537252.63000 5323367.79200
SECONDARY_NW_QUAD_XY: 537208.68600 5330095.58900
SECONDARY_NE_QUAD_XY: 541859.75600 5330127.70100
SECONDARY_SE_QUAD_XY: 541910.51400 5323181.02100
SECONDARY_SW_QUAD_XY: 537253.80300 5323148.90100
RMSE_XY: 2.53000
IMAGE_SOURCE: BLACK AND WHITE FILM
SOURCE_IMAGE_ID: NAPP 9083-039
SOURCE_IMAGE_DATE: 1996 6 12
SOURCE_IMAGE_ID: NAPP 9083-038
SOURCE_IMAGE_DATE: 1996 6 12
SOURCE_IMAGE_ID: NAPP 9103-051
SOURCE_IMAGE_DATE: 1996 7 15
SOURCE_DEM_DATE: 1996 0 0
AGENCY: WESTERN MAPPING CENTER (WMC)
PRODUCER: WOOLPERT LLP
PRODUCTION_SYSTEM: INTERGRAPH ISPM, ISIR
COMPRESSION: UNDEFINED
STANDARD_VERSION: 1996 12
METADATA_DATE: 2001 3 29
DATA_FILE_SIZE: 40630143
BYTE_COUNT: 5351
