FILENAME: O4810460.SES.1133056.tif
QUADRANGLE_NAME: DUGOUT CREEK
QUADRANT: SE
WEST_LONGITUDE: -104 33 45.00000
EAST_LONGITUDE: -104 30 0.00000
NORTH_LATITUDE: 48 3 45.00000
SOUTH_LATITUDE: 48 0 0.00000
PRODUCTION_DATE: 2001 3 13
RASTER_ORDER: LEFT_RIGHT/TOP_BOTTOM
BAND_ORGANIZATION: SINGLE FILE
BAND_CONTENT: BLACK&WHITE
BAND_CONTENT: UNDEFINED
BAND_CONTENT: UNDEFINED
BITS_PER_PIXEL: 8
SAMPLES_AND_LINES: 5351 7588
HORIZONTAL_DATUM: NAD83
HORIZONTAL_COORDINATE_SYSTEM: UTM
COORDINATE_ZONE: 13
HORIZONTAL_UNITS: meters
HORIZONTAL_RESOLUTION: 1.00000
SECONDARY_HORIZONTAL_DATUM: NAD27
XY_ORIGIN: 532252.00000 5323675.00000
SECONDARY_XY_ORIGIN: 532291.19900 5323454.17800
NATION: US
STATE: MT
NW_QUAD_CORNER_XY: 532596.06100 5323339.45300
NE_QUAD_CORNER_XY: 537252.63000 5323367.79200
SE_QUAD_CORNERY_XY: 537297.70300 5316421.16700
SW_QUAD_CORNER_XY: 532635.50000 5316392.82100
SECONDARY_NW_QUAD_XY: 532597.08800 5323120.56100
SECONDARY_NE_QUAD_XY: 537253.80300 5323148.90100
SECONDARY_SE_QUAD_XY: 537298.87700 5316202.29000
SECONDARY_SW_QUAD_XY: 532636.52700 5316173.94300
RMSE_XY: 2.34000
IMAGE_SOURCE: BLACK AND WHITE FILM
SOURCE_IMAGE_ID: NAPP 9082-072
SOURCE_IMAGE_DATE: 1996 6 12
SOURCE_DEM_DATE: 1998 0 0
AGENCY: WESTERN MAPPING CENTER (WMC)
PRODUCER: WOOLPERT LLP
PRODUCTION_SYSTEM: INTERGRAPH ISPM, ISIR
COMPRESSION: UNDEFINED
STANDARD_VERSION: 1996 12
METADATA_DATE: 2001 3 13
DATA_FILE_SIZE: 40608739
BYTE_COUNT: 5351
