FILENAME: O4810459.NES.1133042.tif
QUADRANGLE_NAME: TWOMILE CREEK
QUADRANT: NE
WEST_LONGITUDE: -104 41 15.00000
EAST_LONGITUDE: -104 37 30.00000
NORTH_LATITUDE: 48 7 30.00000
SOUTH_LATITUDE: 48 3 45.00000
PRODUCTION_DATE: 2001 3 7
RASTER_ORDER: LEFT_RIGHT/TOP_BOTTOM
BAND_ORGANIZATION: SINGLE FILE
BAND_CONTENT: BLACK&WHITE
BAND_CONTENT: UNDEFINED
BAND_CONTENT: UNDEFINED
BITS_PER_PIXEL: 8
SAMPLES_AND_LINES: 5334 7580
HORIZONTAL_DATUM: NAD83
HORIZONTAL_COORDINATE_SYSTEM: UTM
COORDINATE_ZONE: 13
HORIZONTAL_UNITS: meters
HORIZONTAL_RESOLUTION: 1.00000
SECONDARY_HORIZONTAL_DATUM: NAD27
XY_ORIGIN: 522911.00000 5330569.00000
SECONDARY_XY_ORIGIN: 522950.22400 5330348.05600
NATION: US
STATE: MT
NW_QUAD_CORNER_XY: 523254.71400 5330240.82800
NE_QUAD_CORNER_XY: 527905.65000 5330261.60500
SE_QUAD_CORNERY_XY: 527939.48900 5323314.89200
SW_QUAD_CORNER_XY: 523282.91200 5323294.11000
SECONDARY_NW_QUAD_XY: 523255.44800 5330021.92100
SECONDARY_NE_QUAD_XY: 527906.53100 5330042.69900
SECONDARY_SE_QUAD_XY: 527940.36900 5323095.99900
SECONDARY_SW_QUAD_XY: 523283.64600 5323075.21600
RMSE_XY: 2.34000
IMAGE_SOURCE: BLACK AND WHITE FILM
SOURCE_IMAGE_ID: NAPP 9080-100
SOURCE_IMAGE_DATE: 1996 6 12
SOURCE_DEM_DATE: 1998 0 0
AGENCY: WESTERN MAPPING CENTER (WMC)
PRODUCER: WOOLPERT LLP
PRODUCTION_SYSTEM: INTERGRAPH ISPM, ISIR
COMPRESSION: UNDEFINED
STANDARD_VERSION: 1996 12
METADATA_DATE: 2001 3 7
DATA_FILE_SIZE: 40437054
BYTE_COUNT: 5334
