FILENAME: O4810458.SWS.1133033.tif
QUADRANGLE_NAME: FROG COULEE
QUADRANT: SW
WEST_LONGITUDE: -104 52 30.00000
EAST_LONGITUDE: -104 48 45.00000
NORTH_LATITUDE: 48 3 45.00000
SOUTH_LATITUDE: 48 0 0.00000
PRODUCTION_DATE: 2001 3 13
RASTER_ORDER: LEFT_RIGHT/TOP_BOTTOM
BAND_ORGANIZATION: SINGLE FILE
BAND_CONTENT: BLACK&WHITE
BAND_CONTENT: UNDEFINED
BAND_CONTENT: UNDEFINED
BITS_PER_PIXEL: 8
SAMPLES_AND_LINES: 5323 7569
HORIZONTAL_DATUM: NAD83
HORIZONTAL_COORDINATE_SYSTEM: UTM
COORDINATE_ZONE: 13
HORIZONTAL_UNITS: meters
HORIZONTAL_RESOLUTION: 1.00000
SECONDARY_HORIZONTAL_DATUM: NAD27
XY_ORIGIN: 508969.00000 5323571.00000
SECONDARY_XY_ORIGIN: 509008.35200 5323350.05500
NATION: US
STATE: MT
NW_QUAD_CORNER_XY: 509313.16900 5323254.43500
NE_QUAD_CORNER_XY: 513969.75200 5323263.88100
SE_QUAD_CORNERY_XY: 513986.65400 5316317.23200
SW_QUAD_CORNER_XY: 509324.43700 5316307.78300
SECONDARY_NW_QUAD_XY: 509313.46300 5323035.54000
SECONDARY_NE_QUAD_XY: 513970.19200 5323044.98700
SECONDARY_SE_QUAD_XY: 513987.09400 5316098.35200
SECONDARY_SW_QUAD_XY: 509324.73100 5316088.90300
RMSE_XY: 2.22000
IMAGE_SOURCE: BLACK AND WHITE FILM
SOURCE_IMAGE_ID: NAPP 9081-119
SOURCE_IMAGE_DATE: 1996 6 12
SOURCE_IMAGE_ID: NAPP 9081-118
SOURCE_IMAGE_DATE: 1996 6 12
SOURCE_DEM_DATE: 1998 0 0
AGENCY: WESTERN MAPPING CENTER (WMC)
PRODUCER: WOOLPERT LLP
PRODUCTION_SYSTEM: INTERGRAPH ISPM, ISIR
COMPRESSION: UNDEFINED
STANDARD_VERSION: 1996 12
METADATA_DATE: 2001 3 21
DATA_FILE_SIZE: 40295110
BYTE_COUNT: 5323
