FILENAME: O4810457.NES.1133018.tif
QUADRANGLE_NAME: MORTARSTONE BLUFF
QUADRANT: NE
WEST_LONGITUDE: -104 56 15.00000
EAST_LONGITUDE: -104 52 30.00000
NORTH_LATITUDE: 48 7 30.00000
SOUTH_LATITUDE: 48 3 45.00000
PRODUCTION_DATE: 2001 3 13
RASTER_ORDER: LEFT_RIGHT/TOP_BOTTOM
BAND_ORGANIZATION: SINGLE FILE
BAND_CONTENT: BLACK&WHITE
BAND_CONTENT: UNDEFINED
BAND_CONTENT: UNDEFINED
BITS_PER_PIXEL: 8
SAMPLES_AND_LINES: 5313 7566
HORIZONTAL_DATUM: NAD83
HORIZONTAL_COORDINATE_SYSTEM: UTM
COORDINATE_ZONE: 13
HORIZONTAL_UNITS: meters
HORIZONTAL_RESOLUTION: 1.00000
SECONDARY_HORIZONTAL_DATUM: NAD27
XY_ORIGIN: 504306.00000 5330509.00000
SECONDARY_XY_ORIGIN: 504345.35900 5330287.95800
NATION: US
STATE: MT
NW_QUAD_CORNER_XY: 504650.94500 5330195.49600
NE_QUAD_CORNER_XY: 509301.89000 5330201.16200
SE_QUAD_CORNERY_XY: 509313.16900 5323254.43500
SW_QUAD_CORNER_XY: 504656.58500 5323248.76700
SECONDARY_NW_QUAD_XY: 504651.09200 5329976.58700
SECONDARY_NE_QUAD_XY: 509302.18300 5329982.25400
SECONDARY_SE_QUAD_XY: 509313.46300 5323035.54000
SECONDARY_SW_QUAD_XY: 504656.73200 5323029.87200
RMSE_XY: 2.41000
IMAGE_SOURCE: BLACK AND WHITE FILM
SOURCE_IMAGE_ID: NAPP 9081-184
SOURCE_IMAGE_DATE: 1996 6 12
SOURCE_DEM_DATE: 1998 0 0
AGENCY: WESTERN MAPPING CENTER (WMC)
PRODUCER: WOOLPERT LLP
PRODUCTION_SYSTEM: INTERGRAPH ISPM, ISIR
COMPRESSION: UNDEFINED
STANDARD_VERSION: 1996 12
METADATA_DATE: 2001 3 13
DATA_FILE_SIZE: 40203471
BYTE_COUNT: 5313
