FILENAME: O4810457.NWS.1133019.tif
QUADRANGLE_NAME: MORTARSTONE BLUFF
QUADRANT: NW
WEST_LONGITUDE: -105 0 0.00000
EAST_LONGITUDE: -104 56 15.00000
NORTH_LATITUDE: 48 7 30.00000
SOUTH_LATITUDE: 48 3 45.00000
PRODUCTION_DATE: 2001 3 13
RASTER_ORDER: LEFT_RIGHT/TOP_BOTTOM
BAND_ORGANIZATION: SINGLE FILE
BAND_CONTENT: BLACK&WHITE
BAND_CONTENT: UNDEFINED
BAND_CONTENT: UNDEFINED
BITS_PER_PIXEL: 8
SAMPLES_AND_LINES: 5307 7562
HORIZONTAL_DATUM: NAD83
HORIZONTAL_COORDINATE_SYSTEM: UTM
COORDINATE_ZONE: 13
HORIZONTAL_UNITS: meters
HORIZONTAL_RESOLUTION: 1.00000
SECONDARY_HORIZONTAL_DATUM: NAD27
XY_ORIGIN: 499655.00000 5330503.00000
SECONDARY_XY_ORIGIN: 499694.39400 5330281.93000
NATION: US
STATE: MT
NW_QUAD_CORNER_XY: 500000.00000 5330193.60700
NE_QUAD_CORNER_XY: 504650.94500 5330195.49600
SE_QUAD_CORNERY_XY: 504656.58500 5323248.76700
SW_QUAD_CORNER_XY: 500000.00000 5323246.87800
SECONDARY_NW_QUAD_XY: 500000.00000 5329974.69800
SECONDARY_NE_QUAD_XY: 504651.09200 5329976.58700
SECONDARY_SE_QUAD_XY: 504656.73200 5323029.87200
SECONDARY_SW_QUAD_XY: 500000.00000 5323027.98300
RMSE_XY: 2.36000
IMAGE_SOURCE: BLACK AND WHITE FILM
SOURCE_IMAGE_ID: NAPP 9096-113
SOURCE_IMAGE_DATE: 1996 7 9
SOURCE_IMAGE_ID: NAPP 9096-112
SOURCE_IMAGE_DATE: 1996 7 9
SOURCE_DEM_DATE: 1998 0 0
AGENCY: WESTERN MAPPING CENTER (WMC)
PRODUCER: WOOLPERT LLP
PRODUCTION_SYSTEM: INTERGRAPH ISPM, ISIR
COMPRESSION: UNDEFINED
STANDARD_VERSION: 1996 12
METADATA_DATE: 2001 3 21
DATA_FILE_SIZE: 40136841
BYTE_COUNT: 5307
