FILENAME: O4810456.SWS.1134912.tif
QUADRANGLE_NAME: RED BANK CREEK
QUADRANT: SW
WEST_LONGITUDE: -104 7 30.00000
EAST_LONGITUDE: -104 3 45.00000
NORTH_LATITUDE: 48 11 15.00000
SOUTH_LATITUDE: 48 7 30.00000
PRODUCTION_DATE: 2001 3 9
RASTER_ORDER: LEFT_RIGHT/TOP_BOTTOM
BAND_ORGANIZATION: SINGLE FILE
BAND_CONTENT: BLACK&WHITE
BAND_CONTENT: UNDEFINED
BAND_CONTENT: UNDEFINED
BITS_PER_PIXEL: 8
SAMPLES_AND_LINES: 5377 7615
HORIZONTAL_DATUM: NAD83
HORIZONTAL_COORDINATE_SYSTEM: UTM
COORDINATE_ZONE: 13
HORIZONTAL_UNITS: meters
HORIZONTAL_RESOLUTION: 1.00000
SECONDARY_HORIZONTAL_DATUM: NAD27
XY_ORIGIN: 564692.00000 5337873.00000
SECONDARY_XY_ORIGIN: 564730.77200 5337652.07000
NATION: US
STATE: MT
NW_QUAD_CORNER_XY: 565033.92400 5337510.54700
NE_QUAD_CORNER_XY: 569679.16000 5337565.31400
SE_QUAD_CORNERY_XY: 569763.84500 5330618.61000
SW_QUAD_CORNER_XY: 565112.96200 5330563.83000
SECONDARY_NW_QUAD_XY: 565035.97900 5337291.63800
SECONDARY_NE_QUAD_XY: 569681.36200 5337346.40600
SECONDARY_SE_QUAD_XY: 569766.04600 5330399.71500
SECONDARY_SW_QUAD_XY: 565115.01600 5330344.93300
RMSE_XY: 2.06000
IMAGE_SOURCE: BLACK AND WHITE FILM
SOURCE_IMAGE_ID: NAPP 8631-030
SOURCE_IMAGE_DATE: 1995 7 28
SOURCE_IMAGE_ID: NAPP 8631-029
SOURCE_IMAGE_DATE: 1995 7 28
SOURCE_DEM_DATE: 1996 2 1
AGENCY: WESTERN MAPPING CENTER (WMC)
PRODUCER: WOOLPERT LLP
PRODUCTION_SYSTEM: INTERGRAPH ISPM, ISIR
COMPRESSION: UNDEFINED
STANDARD_VERSION: 1996 12
METADATA_DATE: 2001 3 27
DATA_FILE_SIZE: 40951232
BYTE_COUNT: 5377
