FILENAME: O4810454.SWS.1134892.tif
QUADRANGLE_NAME: MCCABE EAST
QUADRANT: SW
WEST_LONGITUDE: -104 22 30.00000
EAST_LONGITUDE: -104 18 45.00000
NORTH_LATITUDE: 48 11 15.00000
SOUTH_LATITUDE: 48 7 30.00000
PRODUCTION_DATE: 2001 3 15
RASTER_ORDER: LEFT_RIGHT/TOP_BOTTOM
BAND_ORGANIZATION: SINGLE FILE
BAND_CONTENT: BLACK&WHITE
BAND_CONTENT: UNDEFINED
BAND_CONTENT: UNDEFINED
BITS_PER_PIXEL: 8
SAMPLES_AND_LINES: 5356 7599
HORIZONTAL_DATUM: NAD83
HORIZONTAL_COORDINATE_SYSTEM: UTM
COORDINATE_ZONE: 13
HORIZONTAL_UNITS: meters
HORIZONTAL_RESOLUTION: 1.00000
SECONDARY_HORIZONTAL_DATUM: NAD27
XY_ORIGIN: 546110.00000 5337676.00000
SECONDARY_XY_ORIGIN: 546149.00600 5337455.05000
NATION: US
STATE: MT
NW_QUAD_CORNER_XY: 546452.90000 5337329.25400
NE_QUAD_CORNER_XY: 551098.16700 5337368.91100
SE_QUAD_CORNERY_XY: 551160.26600 5330422.16000
SW_QUAD_CORNER_XY: 546509.35400 5330382.49300
SECONDARY_NW_QUAD_XY: 546454.36700 5337110.33800
SECONDARY_NE_QUAD_XY: 551099.78100 5337149.99700
SECONDARY_SE_QUAD_XY: 551161.88000 5330203.25900
SECONDARY_SW_QUAD_XY: 546510.82100 5330163.59100
RMSE_XY: 1.64000
IMAGE_SOURCE: BLACK AND WHITE FILM
SOURCE_IMAGE_ID: NAPP 9124-120
SOURCE_IMAGE_DATE: 1997 8 22
SOURCE_DEM_DATE: 1998 0 0
AGENCY: WESTERN MAPPING CENTER (WMC)
PRODUCER: WOOLPERT LLP
PRODUCTION_SYSTEM: INTERGRAPH ISPM, ISIR
COMPRESSION: UNDEFINED
STANDARD_VERSION: 1996 12
METADATA_DATE: 2001 3 15
DATA_FILE_SIZE: 40705600
BYTE_COUNT: 5356
