FILENAME: O4810452.NWS.1133051.tif
QUADRANGLE_NAME: CULBERTSON
QUADRANT: NW
WEST_LONGITUDE: -104 37 30.00000
EAST_LONGITUDE: -104 33 45.00000
NORTH_LATITUDE: 48 15 0.00000
SOUTH_LATITUDE: 48 11 15.00000
PRODUCTION_DATE: 2001 3 13
RASTER_ORDER: LEFT_RIGHT/TOP_BOTTOM
BAND_ORGANIZATION: SINGLE FILE
BAND_CONTENT: BLACK&WHITE
BAND_CONTENT: UNDEFINED
BAND_CONTENT: UNDEFINED
BITS_PER_PIXEL: 8
SAMPLES_AND_LINES: 5329 7584
HORIZONTAL_DATUM: NAD83
HORIZONTAL_COORDINATE_SYSTEM: UTM
COORDINATE_ZONE: 13
HORIZONTAL_UNITS: meters
HORIZONTAL_RESOLUTION: 1.00000
SECONDARY_HORIZONTAL_DATUM: NAD27
XY_ORIGIN: 527494.00000 5344487.00000
SECONDARY_XY_ORIGIN: 527533.13700 5344265.91000
NATION: US
STATE: MT
NW_QUAD_CORNER_XY: 527837.87400 5344155.25900
NE_QUAD_CORNER_XY: 532477.51000 5344179.80200
SE_QUAD_CORNERY_XY: 532517.06600 5337232.94400
SW_QUAD_CORNER_XY: 527871.77900 5337208.39400
SECONDARY_NW_QUAD_XY: 527838.75400 5343936.32800
SECONDARY_NE_QUAD_XY: 532478.53700 5343960.87200
SECONDARY_SE_QUAD_XY: 532518.09300 5337014.02500
SECONDARY_SW_QUAD_XY: 527872.65900 5336989.47500
RMSE_XY: 1.95000
IMAGE_SOURCE: BLACK AND WHITE FILM
SOURCE_IMAGE_ID: NAPP 9082-031
SOURCE_IMAGE_DATE: 1996 6 12
SOURCE_DEM_DATE: 1998 0 0
AGENCY: WESTERN MAPPING CENTER (WMC)
PRODUCER: WOOLPERT LLP
PRODUCTION_SYSTEM: INTERGRAPH ISPM, ISIR
COMPRESSION: UNDEFINED
STANDARD_VERSION: 1996 12
METADATA_DATE: 2001 3 13
DATA_FILE_SIZE: 40420465
BYTE_COUNT: 5329
