FILENAME: O4810449.NES.1133014.tif
QUADRANGLE_NAME: BROCKTON
QUADRANT: NE
WEST_LONGITUDE: -104 56 15.00000
EAST_LONGITUDE: -104 52 30.00000
NORTH_LATITUDE: 48 15 0.00000
SOUTH_LATITUDE: 48 11 15.00000
PRODUCTION_DATE: 2001 3 13
RASTER_ORDER: LEFT_RIGHT/TOP_BOTTOM
BAND_ORGANIZATION: SINGLE FILE
BAND_CONTENT: BLACK&WHITE
BAND_CONTENT: UNDEFINED
BAND_CONTENT: UNDEFINED
BITS_PER_PIXEL: 8
SAMPLES_AND_LINES: 5301 7566
HORIZONTAL_DATUM: NAD83
HORIZONTAL_COORDINATE_SYSTEM: UTM
COORDINATE_ZONE: 13
HORIZONTAL_UNITS: meters
HORIZONTAL_RESOLUTION: 1.00000
SECONDARY_HORIZONTAL_DATUM: NAD27
XY_ORIGIN: 504295.00000 5344403.00000
SECONDARY_XY_ORIGIN: 504334.29800 5344181.83100
NATION: US
STATE: MT
NW_QUAD_CORNER_XY: 504639.64900 5344089.18100
NE_QUAD_CORNER_XY: 509279.29800 5344094.84500
SE_QUAD_CORNERY_XY: 509290.59900 5337147.96600
SW_QUAD_CORNER_XY: 504645.30000 5337142.30100
SECONDARY_NW_QUAD_XY: 504639.79600 5343870.24800
SECONDARY_NE_QUAD_XY: 509279.59100 5343875.91200
SECONDARY_SE_QUAD_XY: 509290.89300 5336929.04500
SECONDARY_SW_QUAD_XY: 504645.44700 5336923.37900
RMSE_XY: 1.66000
IMAGE_SOURCE: BLACK AND WHITE FILM
SOURCE_IMAGE_ID: NAPP 9081-188
SOURCE_IMAGE_DATE: 1996 6 12
SOURCE_DEM_DATE: 1998 0 0
AGENCY: WESTERN MAPPING CENTER (WMC)
PRODUCER: WOOLPERT LLP
PRODUCTION_SYSTEM: INTERGRAPH ISPM, ISIR
COMPRESSION: UNDEFINED
STANDARD_VERSION: 1996 12
METADATA_DATE: 2001 3 13
DATA_FILE_SIZE: 40112667
BYTE_COUNT: 5301
