FILENAME: O4810448.NWS.1163551.tif
QUADRANGLE_NAME: BULL BUTTE
QUADRANT: NW
WEST_LONGITUDE: -104 7 30.00000
EAST_LONGITUDE: -104 3 45.00000
NORTH_LATITUDE: 48 22 30.00000
SOUTH_LATITUDE: 48 18 45.00000
PRODUCTION_DATE: 2001 10 7
RASTER_ORDER: LEFT_RIGHT/TOP_BOTTOM
BAND_ORGANIZATION: SINGLE FILE
BAND_CONTENT: BLACK&WHITE
BAND_CONTENT: UNDEFINED
BAND_CONTENT: UNDEFINED
BITS_PER_PIXEL: 8
SAMPLES_AND_LINES: 5361 7615
HORIZONTAL_DATUM: NAD83
HORIZONTAL_COORDINATE_SYSTEM: UTM
COORDINATE_ZONE: 13
HORIZONTAL_UNITS: meters
HORIZONTAL_RESOLUTION: 1.00000
SECONDARY_HORIZONTAL_DATUM: NAD27
XY_ORIGIN: 564454.00000 5358714.00000
SECONDARY_XY_ORIGIN: 564492.67800 5358492.81300
NATION: US
STATE: MT
NW_QUAD_CORNER_XY: 564796.34200 5358351.14400
NE_QUAD_CORNER_XY: 569424.60600 5358405.87000
SE_QUAD_CORNERY_XY: 569509.54100 5351458.94400
SW_QUAD_CORNER_XY: 564875.61400 5351404.20400
SECONDARY_NW_QUAD_XY: 564798.39700 5358132.20100
SECONDARY_NE_QUAD_XY: 569426.80800 5358186.92900
SECONDARY_SE_QUAD_XY: 569511.74200 5351240.01300
SECONDARY_SW_QUAD_XY: 564877.66900 5351185.27200
RMSE_XY: 3.28000
IMAGE_SOURCE: BLACK AND WHITE FILM
SOURCE_IMAGE_ID: NAPP 8631-024
SOURCE_IMAGE_DATE: 1995 7 28
SOURCE_DEM_DATE: 1996 2 1
AGENCY: WESTERN MAPPING CENTER (WMC)
PRODUCER: WOOLPERT LLP
PRODUCTION_SYSTEM: INTERGRAPH ISPM, ISIR
COMPRESSION: UNDEFINED
STANDARD_VERSION: 1996 12
METADATA_DATE: 2001 10 7
DATA_FILE_SIZE: 40829376
BYTE_COUNT: 5361
