FILENAME: O4810447.SES.1163545.tif
QUADRANGLE_NAME: BRUSH MOUNTAIN SW
QUADRANT: SE
WEST_LONGITUDE: -104 11 15.00000
EAST_LONGITUDE: -104 7 30.00000
NORTH_LATITUDE: 48 18 45.00000
SOUTH_LATITUDE: 48 15 0.00000
PRODUCTION_DATE: 2001 10 7
RASTER_ORDER: LEFT_RIGHT/TOP_BOTTOM
BAND_ORGANIZATION: SINGLE FILE
BAND_CONTENT: BLACK&WHITE
BAND_CONTENT: UNDEFINED
BAND_CONTENT: UNDEFINED
BITS_PER_PIXEL: 8
SAMPLES_AND_LINES: 5361 7611
HORIZONTAL_DATUM: NAD83
HORIZONTAL_COORDINATE_SYSTEM: UTM
COORDINATE_ZONE: 13
HORIZONTAL_UNITS: meters
HORIZONTAL_RESOLUTION: 1.00000
SECONDARY_HORIZONTAL_DATUM: NAD27
XY_ORIGIN: 559899.00000 5351712.00000
SECONDARY_XY_ORIGIN: 559937.76600 5351490.89500
NATION: US
STATE: MT
NW_QUAD_CORNER_XY: 560241.67900 5351353.24000
NE_QUAD_CORNER_XY: 564875.61400 5351404.20400
SE_QUAD_CORNERY_XY: 564954.80800 5344457.33900
SW_QUAD_CORNER_XY: 560315.21500 5344406.36200
SECONDARY_NW_QUAD_XY: 560243.58700 5351134.30500
SECONDARY_NE_QUAD_XY: 564877.66900 5351185.27200
SECONDARY_SE_QUAD_XY: 564956.86300 5344238.41700
SECONDARY_SW_QUAD_XY: 560317.12300 5344187.43800
RMSE_XY: 3.78000
IMAGE_SOURCE: BLACK AND WHITE FILM
SOURCE_IMAGE_ID: NAPP 10766-137
SOURCE_IMAGE_DATE: 1998 7 10
SOURCE_DEM_DATE: 1998 0 0
AGENCY: WESTERN MAPPING CENTER (WMC)
PRODUCER: WOOLPERT LLP
PRODUCTION_SYSTEM: INTERGRAPH ISPM, ISIR
COMPRESSION: UNDEFINED
STANDARD_VERSION: 1996 12
METADATA_DATE: 2001 10 7
DATA_FILE_SIZE: 40807932
BYTE_COUNT: 5361
