FILENAME: O4810447.SWS.1163546.tif
QUADRANGLE_NAME: BRUSH MOUNTAIN SW
QUADRANT: SW
WEST_LONGITUDE: -104 15 0.00000
EAST_LONGITUDE: -104 11 15.00000
NORTH_LATITUDE: 48 18 45.00000
SOUTH_LATITUDE: 48 15 0.00000
PRODUCTION_DATE: 2001 10 7
RASTER_ORDER: LEFT_RIGHT/TOP_BOTTOM
BAND_ORGANIZATION: SINGLE FILE
BAND_CONTENT: BLACK&WHITE
BAND_CONTENT: UNDEFINED
BAND_CONTENT: UNDEFINED
BITS_PER_PIXEL: 8
SAMPLES_AND_LINES: 5356 7607
HORIZONTAL_DATUM: NAD83
HORIZONTAL_COORDINATE_SYSTEM: UTM
COORDINATE_ZONE: 13
HORIZONTAL_UNITS: meters
HORIZONTAL_RESOLUTION: 1.00000
SECONDARY_HORIZONTAL_DATUM: NAD27
XY_ORIGIN: 555265.00000 5351661.00000
SECONDARY_XY_ORIGIN: 555303.82400 5351439.89400
NATION: US
STATE: MT
NW_QUAD_CORNER_XY: 555607.73500 5351306.05100
NE_QUAD_CORNER_XY: 560241.67900 5351353.24000
SE_QUAD_CORNERY_XY: 560315.21500 5344406.36200
SW_QUAD_CORNER_XY: 555675.61400 5344359.16100
SECONDARY_NW_QUAD_XY: 555609.49600 5351087.11500
SECONDARY_NE_QUAD_XY: 560243.58700 5351134.30500
SECONDARY_SE_QUAD_XY: 560317.12300 5344187.43800
SECONDARY_SW_QUAD_XY: 555677.37500 5344140.23600
RMSE_XY: 3.55000
IMAGE_SOURCE: BLACK AND WHITE FILM
SOURCE_IMAGE_ID: NAPP 9123-190
SOURCE_IMAGE_DATE: 1997 8 3
SOURCE_DEM_DATE: 1998 0 0
AGENCY: WESTERN MAPPING CENTER (WMC)
PRODUCER: WOOLPERT LLP
PRODUCTION_SYSTEM: INTERGRAPH ISPM, ISIR
COMPRESSION: UNDEFINED
STANDARD_VERSION: 1996 12
METADATA_DATE: 2001 10 7
DATA_FILE_SIZE: 40748448
BYTE_COUNT: 5356
