FILENAME: O4810444.NES.1163110.tif
QUADRANGLE_NAME: JOHNSON LAKE
QUADRANT: NE
WEST_LONGITUDE: -104 33 45.00000
EAST_LONGITUDE: -104 30 0.00000
NORTH_LATITUDE: 48 22 30.00000
SOUTH_LATITUDE: 48 18 45.00000
PRODUCTION_DATE: 2001 9 22
RASTER_ORDER: LEFT_RIGHT/TOP_BOTTOM
BAND_ORGANIZATION: SINGLE FILE
BAND_CONTENT: BLACK&WHITE
BAND_CONTENT: UNDEFINED
BAND_CONTENT: UNDEFINED
BITS_PER_PIXEL: 8
SAMPLES_AND_LINES: 5322 7589
HORIZONTAL_DATUM: NAD83
HORIZONTAL_COORDINATE_SYSTEM: UTM
COORDINATE_ZONE: 13
HORIZONTAL_UNITS: meters
HORIZONTAL_RESOLUTION: 1.00000
SECONDARY_HORIZONTAL_DATUM: NAD27
XY_ORIGIN: 532055.00000 5358410.00000
SECONDARY_XY_ORIGIN: 532094.01000 5358188.71500
NATION: US
STATE: MT
NW_QUAD_CORNER_XY: 532398.28100 5358073.74600
NE_QUAD_CORNER_XY: 537026.59400 5358102.05100
SE_QUAD_CORNERY_XY: 537071.89000 5351155.04900
SW_QUAD_CORNER_XY: 532437.91500 5351126.73700
SECONDARY_NW_QUAD_XY: 532399.30800 5357854.79500
SECONDARY_NE_QUAD_XY: 537027.76800 5357883.10100
SECONDARY_SE_QUAD_XY: 537073.06400 5350936.10800
SECONDARY_SW_QUAD_XY: 532438.94200 5350907.79500
RMSE_XY: 3.90000
IMAGE_SOURCE: BLACK AND WHITE FILM
SOURCE_IMAGE_ID: NAPP 9082-082
SOURCE_IMAGE_DATE: 1996 6 12
SOURCE_DEM_DATE: 1998 0 0
AGENCY: WESTERN MAPPING CENTER (WMC)
PRODUCER: WOOLPERT LLP
PRODUCTION_SYSTEM: INTERGRAPH ISPM, ISIR
COMPRESSION: UNDEFINED
STANDARD_VERSION: 1996 12
METADATA_DATE: 2001 9 22
DATA_FILE_SIZE: 40393980
BYTE_COUNT: 5322
