FILENAME: O4810444.NWS.1163111.tif
QUADRANGLE_NAME: JOHNSON LAKE
QUADRANT: NW
WEST_LONGITUDE: -104 37 30.00000
EAST_LONGITUDE: -104 33 45.00000
NORTH_LATITUDE: 48 22 30.00000
SOUTH_LATITUDE: 48 18 45.00000
PRODUCTION_DATE: 2001 9 22
RASTER_ORDER: LEFT_RIGHT/TOP_BOTTOM
BAND_ORGANIZATION: SINGLE FILE
BAND_CONTENT: BLACK&WHITE
BAND_CONTENT: UNDEFINED
BAND_CONTENT: UNDEFINED
BITS_PER_PIXEL: 8
SAMPLES_AND_LINES: 5317 7585
HORIZONTAL_DATUM: NAD83
HORIZONTAL_COORDINATE_SYSTEM: UTM
COORDINATE_ZONE: 13
HORIZONTAL_UNITS: meters
HORIZONTAL_RESOLUTION: 1.00000
SECONDARY_HORIZONTAL_DATUM: NAD27
XY_ORIGIN: 527426.00000 5358382.00000
SECONDARY_XY_ORIGIN: 527465.03700 5358160.70500
NATION: US
STATE: MT
NW_QUAD_CORNER_XY: 527769.96400 5358049.21500
NE_QUAD_CORNER_XY: 532398.28100 5358073.74600
SE_QUAD_CORNERY_XY: 532437.91500 5351126.73700
SW_QUAD_CORNER_XY: 527803.93500 5351102.19900
SECONDARY_NW_QUAD_XY: 527770.84400 5357830.26300
SECONDARY_NE_QUAD_XY: 532399.30800 5357854.79500
SECONDARY_SE_QUAD_XY: 532438.94200 5350907.79500
SECONDARY_SW_QUAD_XY: 527804.81600 5350883.25700
RMSE_XY: 2.47000
IMAGE_SOURCE: BLACK AND WHITE FILM
SOURCE_IMAGE_ID: NAPP 9082-027
SOURCE_IMAGE_DATE: 1996 6 12
SOURCE_DEM_DATE: 1998 0 0
AGENCY: WESTERN MAPPING CENTER (WMC)
PRODUCER: WOOLPERT LLP
PRODUCTION_SYSTEM: INTERGRAPH ISPM, ISIR
COMPRESSION: UNDEFINED
STANDARD_VERSION: 1996 12
METADATA_DATE: 2001 9 22
DATA_FILE_SIZE: 40334762
BYTE_COUNT: 5317
