FILENAME: O4810444.SES.1163112.tif
QUADRANGLE_NAME: JOHNSON LAKE
QUADRANT: SE
WEST_LONGITUDE: -104 33 45.00000
EAST_LONGITUDE: -104 30 0.00000
NORTH_LATITUDE: 48 18 45.00000
SOUTH_LATITUDE: 48 15 0.00000
PRODUCTION_DATE: 2001 9 22
RASTER_ORDER: LEFT_RIGHT/TOP_BOTTOM
BAND_ORGANIZATION: SINGLE FILE
BAND_CONTENT: BLACK&WHITE
BAND_CONTENT: UNDEFINED
BAND_CONTENT: UNDEFINED
BITS_PER_PIXEL: 8
SAMPLES_AND_LINES: 5329 7589
HORIZONTAL_DATUM: NAD83
HORIZONTAL_COORDINATE_SYSTEM: UTM
COORDINATE_ZONE: 13
HORIZONTAL_UNITS: meters
HORIZONTAL_RESOLUTION: 1.00000
SECONDARY_HORIZONTAL_DATUM: NAD27
XY_ORIGIN: 532094.00000 5351463.00000
SECONDARY_XY_ORIGIN: 532133.05900 5351241.82200
NATION: US
STATE: MT
NW_QUAD_CORNER_XY: 532437.91500 5351126.73700
NE_QUAD_CORNER_XY: 537071.89000 5351155.04900
SE_QUAD_CORNERY_XY: 537117.14200 5344208.12200
SW_QUAD_CORNER_XY: 532477.51000 5344179.80200
SECONDARY_NW_QUAD_XY: 532438.94200 5350907.79500
SECONDARY_NE_QUAD_XY: 537073.06400 5350936.10800
SECONDARY_SE_QUAD_XY: 537118.31600 5343989.19200
SECONDARY_SW_QUAD_XY: 532478.53700 5343960.87200
RMSE_XY: 3.25000
IMAGE_SOURCE: BLACK AND WHITE FILM
SOURCE_IMAGE_ID: NAPP 9082-080
SOURCE_IMAGE_DATE: 1996 6 12
SOURCE_DEM_DATE: 1998 0 0
AGENCY: WESTERN MAPPING CENTER (WMC)
PRODUCER: WOOLPERT LLP
PRODUCTION_SYSTEM: INTERGRAPH ISPM, ISIR
COMPRESSION: UNDEFINED
STANDARD_VERSION: 1996 12
METADATA_DATE: 2001 9 22
DATA_FILE_SIZE: 40447110
BYTE_COUNT: 5329
