FILENAME: O4810442.SES.1163088.tif
QUADRANGLE_NAME: COYOTE COULEE
QUADRANT: SE
WEST_LONGITUDE: -104 48 45.00000
EAST_LONGITUDE: -104 45 0.00000
NORTH_LATITUDE: 48 18 45.00000
SOUTH_LATITUDE: 48 15 0.00000
PRODUCTION_DATE: 2001 9 22
RASTER_ORDER: LEFT_RIGHT/TOP_BOTTOM
BAND_ORGANIZATION: SINGLE FILE
BAND_CONTENT: BLACK&WHITE
BAND_CONTENT: UNDEFINED
BAND_CONTENT: UNDEFINED
BITS_PER_PIXEL: 8
SAMPLES_AND_LINES: 5306 7573
HORIZONTAL_DATUM: NAD83
HORIZONTAL_COORDINATE_SYSTEM: UTM
COORDINATE_ZONE: 13
HORIZONTAL_UNITS: meters
HORIZONTAL_RESOLUTION: 1.00000
SECONDARY_HORIZONTAL_DATUM: NAD27
XY_ORIGIN: 513558.00000 5351372.00000
SECONDARY_XY_ORIGIN: 513597.17600 5351150.77300
NATION: US
STATE: MT
NW_QUAD_CORNER_XY: 513901.97600 5351051.23800
NE_QUAD_CORNER_XY: 518535.96500 5351064.45000
SE_QUAD_CORNERY_XY: 518558.59100 5344117.50000
SW_QUAD_CORNER_XY: 513918.94500 5344104.28500
SECONDARY_NW_QUAD_XY: 513902.41600 5350832.29400
SECONDARY_NE_QUAD_XY: 518536.55200 5350845.50600
SECONDARY_SE_QUAD_XY: 518559.17800 5343898.56800
SECONDARY_SW_QUAD_XY: 513919.38500 5343885.35200
RMSE_XY: 4.68000
IMAGE_SOURCE: BLACK AND WHITE FILM
SOURCE_IMAGE_ID: NAPP 9081-062
SOURCE_IMAGE_DATE: 1996 6 12
SOURCE_DEM_DATE: 1998 0 0
AGENCY: WESTERN MAPPING CENTER (WMC)
PRODUCER: WOOLPERT LLP
PRODUCTION_SYSTEM: INTERGRAPH ISPM, ISIR
COMPRESSION: UNDEFINED
STANDARD_VERSION: 1996 12
METADATA_DATE: 2001 9 22
DATA_FILE_SIZE: 40187644
BYTE_COUNT: 5306
