FILENAME: O4810442.SWS.1163089.tif
QUADRANGLE_NAME: COYOTE COULEE
QUADRANT: SW
WEST_LONGITUDE: -104 52 30.00000
EAST_LONGITUDE: -104 48 45.00000
NORTH_LATITUDE: 48 18 45.00000
SOUTH_LATITUDE: 48 15 0.00000
PRODUCTION_DATE: 2001 9 22
RASTER_ORDER: LEFT_RIGHT/TOP_BOTTOM
BAND_ORGANIZATION: SINGLE FILE
BAND_CONTENT: BLACK&WHITE
BAND_CONTENT: UNDEFINED
BAND_CONTENT: UNDEFINED
BITS_PER_PIXEL: 8
SAMPLES_AND_LINES: 5300 7570
HORIZONTAL_DATUM: NAD83
HORIZONTAL_COORDINATE_SYSTEM: UTM
COORDINATE_ZONE: 13
HORIZONTAL_UNITS: meters
HORIZONTAL_RESOLUTION: 1.00000
SECONDARY_HORIZONTAL_DATUM: NAD27
XY_ORIGIN: 508924.00000 5351359.00000
SECONDARY_XY_ORIGIN: 508963.20900 5351137.75900
NATION: US
STATE: MT
NW_QUAD_CORNER_XY: 509267.98500 5351041.80000
NE_QUAD_CORNER_XY: 513901.97600 5351051.23800
SE_QUAD_CORNERY_XY: 513918.94500 5344104.28500
SW_QUAD_CORNER_XY: 509279.29800 5344094.84500
SECONDARY_NW_QUAD_XY: 509268.27900 5350822.85600
SECONDARY_NE_QUAD_XY: 513902.41600 5350832.29400
SECONDARY_SE_QUAD_XY: 513919.38500 5343885.35200
SECONDARY_SW_QUAD_XY: 509279.59100 5343875.91200
RMSE_XY: 3.52000
IMAGE_SOURCE: BLACK AND WHITE FILM
SOURCE_IMAGE_ID: NAPP 9081-111
SOURCE_IMAGE_DATE: 1996 6 12
SOURCE_DEM_DATE: 1998 0 0
AGENCY: WESTERN MAPPING CENTER (WMC)
PRODUCER: WOOLPERT LLP
PRODUCTION_SYSTEM: INTERGRAPH ISPM, ISIR
COMPRESSION: UNDEFINED
STANDARD_VERSION: 1996 12
METADATA_DATE: 2001 9 22
DATA_FILE_SIZE: 40126300
BYTE_COUNT: 5300
