FILENAME: O4810441.NWS.1163075.tif
QUADRANGLE_NAME: SMOKE CREEK SW
QUADRANT: NW
WEST_LONGITUDE: -105 0 0.00000
EAST_LONGITUDE: -104 56 15.00000
NORTH_LATITUDE: 48 22 30.00000
SOUTH_LATITUDE: 48 18 45.00000
PRODUCTION_DATE: 2001 9 22
RASTER_ORDER: LEFT_RIGHT/TOP_BOTTOM
BAND_ORGANIZATION: SINGLE FILE
BAND_CONTENT: BLACK&WHITE
BAND_CONTENT: UNDEFINED
BAND_CONTENT: UNDEFINED
BITS_PER_PIXEL: 8
SAMPLES_AND_LINES: 5284 7562
HORIZONTAL_DATUM: NAD83
HORIZONTAL_COORDINATE_SYSTEM: UTM
COORDINATE_ZONE: 13
HORIZONTAL_UNITS: meters
HORIZONTAL_RESOLUTION: 1.00000
SECONDARY_HORIZONTAL_DATUM: NAD27
XY_ORIGIN: 499655.00000 5358291.00000
SECONDARY_XY_ORIGIN: 499694.21600 5358069.64400
NATION: US
STATE: MT
NW_QUAD_CORNER_XY: 500000.00000 5357981.28300
NE_QUAD_CORNER_XY: 504628.33100 5357983.17000
SE_QUAD_CORNERY_XY: 504633.99300 5351036.13800
SW_QUAD_CORNER_XY: 500000.00000 5351034.25000
SECONDARY_NW_QUAD_XY: 500000.00000 5357762.32900
SECONDARY_NE_QUAD_XY: 504628.47800 5357764.21600
SECONDARY_SE_QUAD_XY: 504634.14000 5350817.19400
SECONDARY_SW_QUAD_XY: 500000.00000 5350815.30600
RMSE_XY: 3.21000
IMAGE_SOURCE: BLACK AND WHITE FILM
SOURCE_IMAGE_ID: NAPP 10725-072
SOURCE_IMAGE_DATE: 1997 9 2
SOURCE_DEM_DATE: 1998 0 0
AGENCY: WESTERN MAPPING CENTER (WMC)
PRODUCER: WOOLPERT LLP
PRODUCTION_SYSTEM: INTERGRAPH ISPM, ISIR
COMPRESSION: UNDEFINED
STANDARD_VERSION: 1996 12
METADATA_DATE: 2001 9 23
DATA_FILE_SIZE: 39962892
BYTE_COUNT: 5284
