FILENAME: O4810440.NWS.1163549.tif
QUADRANGLE_NAME: BRUSH MOUNTAIN
QUADRANT: NW
WEST_LONGITUDE: -104 7 30.00000
EAST_LONGITUDE: -104 3 45.00000
NORTH_LATITUDE: 48 30 0.00000
SOUTH_LATITUDE: 48 26 15.00000
PRODUCTION_DATE: 2001 10 7
RASTER_ORDER: LEFT_RIGHT/TOP_BOTTOM
BAND_ORGANIZATION: SINGLE FILE
BAND_CONTENT: BLACK&WHITE
BAND_CONTENT: UNDEFINED
BAND_CONTENT: UNDEFINED
BITS_PER_PIXEL: 8
SAMPLES_AND_LINES: 5349 7615
HORIZONTAL_DATUM: NAD83
HORIZONTAL_COORDINATE_SYSTEM: UTM
COORDINATE_ZONE: 13
HORIZONTAL_UNITS: meters
HORIZONTAL_RESOLUTION: 1.00000
SECONDARY_HORIZONTAL_DATUM: NAD27
XY_ORIGIN: 564296.00000 5372608.00000
SECONDARY_XY_ORIGIN: 564334.61500 5372386.65000
NATION: US
STATE: MT
NW_QUAD_CORNER_XY: 564637.56600 5372245.24500
NE_QUAD_CORNER_XY: 569254.48700 5372299.94300
SE_QUAD_CORNERY_XY: 569339.58800 5365352.87000
SW_QUAD_CORNER_XY: 564716.99300 5365298.15700
SECONDARY_NW_QUAD_XY: 564639.62100 5372026.28400
SECONDARY_NE_QUAD_XY: 569256.68900 5372080.98400
SECONDARY_SE_QUAD_XY: 569341.79000 5365133.91900
SECONDARY_SW_QUAD_XY: 564719.04800 5365079.20500
RMSE_XY: 4.08000
IMAGE_SOURCE: BLACK AND WHITE FILM
SOURCE_IMAGE_ID: NAPP 8631-020
SOURCE_IMAGE_DATE: 1995 7 28
SOURCE_DEM_DATE: 1996 1 1
AGENCY: WESTERN MAPPING CENTER (WMC)
PRODUCER: WOOLPERT LLP
PRODUCTION_SYSTEM: INTERGRAPH ISPM, ISIR
COMPRESSION: UNDEFINED
STANDARD_VERSION: 1996 12
METADATA_DATE: 2001 10 7
DATA_FILE_SIZE: 40737984
BYTE_COUNT: 5349
