FILENAME: O4810439.NWS.1163540.tif
QUADRANGLE_NAME: SUNNYHILL SCHOOL
QUADRANT: NW
WEST_LONGITUDE: -104 15 0.00000
EAST_LONGITUDE: -104 11 15.00000
NORTH_LATITUDE: 48 30 0.00000
SOUTH_LATITUDE: 48 26 15.00000
PRODUCTION_DATE: 2001 10 7
RASTER_ORDER: LEFT_RIGHT/TOP_BOTTOM
BAND_ORGANIZATION: SINGLE FILE
BAND_CONTENT: BLACK&WHITE
BAND_CONTENT: UNDEFINED
BAND_CONTENT: UNDEFINED
BITS_PER_PIXEL: 8
SAMPLES_AND_LINES: 5339 7607
HORIZONTAL_DATUM: NAD83
HORIZONTAL_COORDINATE_SYSTEM: UTM
COORDINATE_ZONE: 13
HORIZONTAL_UNITS: meters
HORIZONTAL_RESOLUTION: 1.00000
SECONDARY_HORIZONTAL_DATUM: NAD27
XY_ORIGIN: 555061.00000 5372502.00000
SECONDARY_XY_ORIGIN: 555099.69800 5372280.62100
NATION: US
STATE: MT
NW_QUAD_CORNER_XY: 555403.69700 5372147.16800
NE_QUAD_CORNER_XY: 560020.63600 5372194.32000
SE_QUAD_CORNERY_XY: 560094.38900 5365247.21900
SW_QUAD_CORNER_XY: 555471.77600 5365200.05400
SECONDARY_NW_QUAD_XY: 555405.45800 5371928.20400
SECONDARY_NE_QUAD_XY: 560022.54400 5371975.35800
SECONDARY_SE_QUAD_XY: 560096.29700 5365028.26500
SECONDARY_SW_QUAD_XY: 555473.53700 5364981.09900
RMSE_XY: 2.15000
IMAGE_SOURCE: BLACK AND WHITE FILM
SOURCE_IMAGE_ID: NAPP 9123-184
SOURCE_IMAGE_DATE: 1997 8 3
SOURCE_DEM_DATE: 1998 0 0
AGENCY: WESTERN MAPPING CENTER (WMC)
PRODUCER: WOOLPERT LLP
PRODUCTION_SYSTEM: INTERGRAPH ISPM, ISIR
COMPRESSION: UNDEFINED
STANDARD_VERSION: 1996 12
METADATA_DATE: 2001 10 7
DATA_FILE_SIZE: 40619112
BYTE_COUNT: 5339
