FILENAME: O4810438.NES.1163527.tif
QUADRANGLE_NAME: CAPENEYS LAKE
QUADRANT: NE
WEST_LONGITUDE: -104 18 45.00000
EAST_LONGITUDE: -104 15 0.00000
NORTH_LATITUDE: 48 30 0.00000
SOUTH_LATITUDE: 48 26 15.00000
PRODUCTION_DATE: 2001 10 7
RASTER_ORDER: LEFT_RIGHT/TOP_BOTTOM
BAND_ORGANIZATION: SINGLE FILE
BAND_CONTENT: BLACK&WHITE
BAND_CONTENT: UNDEFINED
BAND_CONTENT: UNDEFINED
BITS_PER_PIXEL: 8
SAMPLES_AND_LINES: 5333 7604
HORIZONTAL_DATUM: NAD83
HORIZONTAL_COORDINATE_SYSTEM: UTM
COORDINATE_ZONE: 13
HORIZONTAL_UNITS: meters
HORIZONTAL_RESOLUTION: 1.00000
SECONDARY_HORIZONTAL_DATUM: NAD27
XY_ORIGIN: 550444.00000 5372455.00000
SECONDARY_XY_ORIGIN: 550482.74500 5372233.59800
NATION: US
STATE: MT
NW_QUAD_CORNER_XY: 550786.75000 5372103.78800
NE_QUAD_CORNER_XY: 555403.69700 5372147.16800
SE_QUAD_CORNERY_XY: 555471.77600 5365200.05400
SW_QUAD_CORNER_XY: 550849.15600 5365156.66300
SECONDARY_NW_QUAD_XY: 550788.36500 5371884.82200
SECONDARY_NE_QUAD_XY: 555405.45800 5371928.20400
SECONDARY_SE_QUAD_XY: 555473.53700 5364981.09900
SECONDARY_SW_QUAD_XY: 550850.77000 5364937.70600
RMSE_XY: 3.49000
IMAGE_SOURCE: BLACK AND WHITE FILM
SOURCE_IMAGE_ID: NAPP 9124-086
SOURCE_IMAGE_DATE: 1997 8 22
SOURCE_DEM_DATE: 1998 0 0
AGENCY: WESTERN MAPPING CENTER (WMC)
PRODUCER: WOOLPERT LLP
PRODUCTION_SYSTEM: INTERGRAPH ISPM, ISIR
COMPRESSION: UNDEFINED
STANDARD_VERSION: 1996 12
METADATA_DATE: 2001 10 7
DATA_FILE_SIZE: 40557465
BYTE_COUNT: 5333
