FILENAME: O4810438.NWS.1163528.tif
QUADRANGLE_NAME: CAPENEYS LAKE
QUADRANT: NW
WEST_LONGITUDE: -104 22 30.00000
EAST_LONGITUDE: -104 18 45.00000
NORTH_LATITUDE: 48 30 0.00000
SOUTH_LATITUDE: 48 26 15.00000
PRODUCTION_DATE: 2001 10 7
RASTER_ORDER: LEFT_RIGHT/TOP_BOTTOM
BAND_ORGANIZATION: SINGLE FILE
BAND_CONTENT: BLACK&WHITE
BAND_CONTENT: UNDEFINED
BAND_CONTENT: UNDEFINED
BITS_PER_PIXEL: 8
SAMPLES_AND_LINES: 5328 7600
HORIZONTAL_DATUM: NAD83
HORIZONTAL_COORDINATE_SYSTEM: UTM
COORDINATE_ZONE: 13
HORIZONTAL_UNITS: meters
HORIZONTAL_RESOLUTION: 1.00000
SECONDARY_HORIZONTAL_DATUM: NAD27
XY_ORIGIN: 545827.00000 5372412.00000
SECONDARY_XY_ORIGIN: 545865.79200 5372190.56900
NATION: US
STATE: MT
NW_QUAD_CORNER_XY: 546169.79600 5372064.18000
NE_QUAD_CORNER_XY: 550786.75000 5372103.78800
SE_QUAD_CORNERY_XY: 550849.15600 5365156.66300
SW_QUAD_CORNER_XY: 546226.52800 5365117.04500
SECONDARY_NW_QUAD_XY: 546171.26400 5371845.21400
SECONDARY_NE_QUAD_XY: 550788.36500 5371884.82200
SECONDARY_SE_QUAD_XY: 550850.77000 5364937.70600
SECONDARY_SW_QUAD_XY: 546227.99600 5364898.08700
RMSE_XY: 3.14000
IMAGE_SOURCE: BLACK AND WHITE FILM
SOURCE_IMAGE_ID: NAPP 9095-104
SOURCE_IMAGE_DATE: 1996 7 9
SOURCE_DEM_DATE: 1998 0 0
AGENCY: WESTERN MAPPING CENTER (WMC)
PRODUCER: WOOLPERT LLP
PRODUCTION_SYSTEM: INTERGRAPH ISPM, ISIR
COMPRESSION: UNDEFINED
STANDARD_VERSION: 1996 12
METADATA_DATE: 2001 10 7
DATA_FILE_SIZE: 40498128
BYTE_COUNT: 5328
