FILENAME: O4810438.SWS.1163530.tif
QUADRANGLE_NAME: CAPENEYS LAKE
QUADRANT: SW
WEST_LONGITUDE: -104 22 30.00000
EAST_LONGITUDE: -104 18 45.00000
NORTH_LATITUDE: 48 26 15.00000
SOUTH_LATITUDE: 48 22 30.00000
PRODUCTION_DATE: 2001 10 7
RASTER_ORDER: LEFT_RIGHT/TOP_BOTTOM
BAND_ORGANIZATION: SINGLE FILE
BAND_CONTENT: BLACK&WHITE
BAND_CONTENT: UNDEFINED
BAND_CONTENT: UNDEFINED
BITS_PER_PIXEL: 8
SAMPLES_AND_LINES: 5333 7601
HORIZONTAL_DATUM: NAD83
HORIZONTAL_COORDINATE_SYSTEM: UTM
COORDINATE_ZONE: 13
HORIZONTAL_UNITS: meters
HORIZONTAL_RESOLUTION: 1.00000
SECONDARY_HORIZONTAL_DATUM: NAD27
XY_ORIGIN: 545884.00000 5365465.00000
SECONDARY_XY_ORIGIN: 545922.83800 5365243.66500
NATION: US
STATE: MT
NW_QUAD_CORNER_XY: 546226.52800 5365117.04500
NE_QUAD_CORNER_XY: 550849.15600 5365156.66300
SE_QUAD_CORNERY_XY: 550911.50000 5358209.61300
SW_QUAD_CORNER_XY: 546283.20400 5358169.98500
SECONDARY_NW_QUAD_XY: 546227.99600 5364898.08700
SECONDARY_NE_QUAD_XY: 550850.77000 5364937.70600
SECONDARY_SE_QUAD_XY: 550913.11500 5357990.66500
SECONDARY_SW_QUAD_XY: 546284.67200 5357951.03600
RMSE_XY: 2.95000
IMAGE_SOURCE: BLACK AND WHITE FILM
SOURCE_IMAGE_ID: NAPP 9095-102
SOURCE_IMAGE_DATE: 1996 7 9
SOURCE_DEM_DATE: 1998 0 0
AGENCY: WESTERN MAPPING CENTER (WMC)
PRODUCER: WOOLPERT LLP
PRODUCTION_SYSTEM: INTERGRAPH ISPM, ISIR
COMPRESSION: UNDEFINED
STANDARD_VERSION: 1996 12
METADATA_DATE: 2001 10 7
DATA_FILE_SIZE: 40541466
BYTE_COUNT: 5333
