FILENAME: O4810436.SES.1163108.tif
QUADRANGLE_NAME: HOMESTEAD
QUADRANT: SE
WEST_LONGITUDE: -104 33 45.00000
EAST_LONGITUDE: -104 30 0.00000
NORTH_LATITUDE: 48 26 15.00000
SOUTH_LATITUDE: 48 22 30.00000
PRODUCTION_DATE: 2001 9 22
RASTER_ORDER: LEFT_RIGHT/TOP_BOTTOM
BAND_ORGANIZATION: SINGLE FILE
BAND_CONTENT: BLACK&WHITE
BAND_CONTENT: UNDEFINED
BAND_CONTENT: UNDEFINED
BITS_PER_PIXEL: 8
SAMPLES_AND_LINES: 5317 7589
HORIZONTAL_DATUM: NAD83
HORIZONTAL_COORDINATE_SYSTEM: UTM
COORDINATE_ZONE: 13
HORIZONTAL_UNITS: meters
HORIZONTAL_RESOLUTION: 1.00000
SECONDARY_HORIZONTAL_DATUM: NAD27
XY_ORIGIN: 532015.00000 5365357.00000
SECONDARY_XY_ORIGIN: 532053.96000 5365135.60900
NATION: US
STATE: MT
NW_QUAD_CORNER_XY: 532358.60800 5365020.83100
NE_QUAD_CORNER_XY: 536981.25400 5365049.12900
SE_QUAD_CORNERY_XY: 537026.59400 5358102.05100
SW_QUAD_CORNER_XY: 532398.28100 5358073.74600
SECONDARY_NW_QUAD_XY: 532359.63600 5364801.87000
SECONDARY_NE_QUAD_XY: 536982.42800 5364830.16900
SECONDARY_SE_QUAD_XY: 537027.76800 5357883.10100
SECONDARY_SW_QUAD_XY: 532399.30800 5357854.79500
RMSE_XY: 4.68000
IMAGE_SOURCE: BLACK AND WHITE FILM
SOURCE_IMAGE_ID: NAPP 9082-084
SOURCE_IMAGE_DATE: 1996 6 12
SOURCE_DEM_DATE: 1998 0 0
AGENCY: WESTERN MAPPING CENTER (WMC)
PRODUCER: WOOLPERT LLP
PRODUCTION_SYSTEM: INTERGRAPH ISPM, ISIR
COMPRESSION: UNDEFINED
STANDARD_VERSION: 1996 12
METADATA_DATE: 2001 9 22
DATA_FILE_SIZE: 40356030
BYTE_COUNT: 5317
