FILENAME: O4810436.SWS.1163109.tif
QUADRANGLE_NAME: HOMESTEAD
QUADRANT: SW
WEST_LONGITUDE: -104 37 30.00000
EAST_LONGITUDE: -104 33 45.00000
NORTH_LATITUDE: 48 26 15.00000
SOUTH_LATITUDE: 48 22 30.00000
PRODUCTION_DATE: 2001 9 22
RASTER_ORDER: LEFT_RIGHT/TOP_BOTTOM
BAND_ORGANIZATION: SINGLE FILE
BAND_CONTENT: BLACK&WHITE
BAND_CONTENT: UNDEFINED
BAND_CONTENT: UNDEFINED
BITS_PER_PIXEL: 8
SAMPLES_AND_LINES: 5312 7585
HORIZONTAL_DATUM: NAD83
HORIZONTAL_COORDINATE_SYSTEM: UTM
COORDINATE_ZONE: 13
HORIZONTAL_UNITS: meters
HORIZONTAL_RESOLUTION: 1.00000
SECONDARY_HORIZONTAL_DATUM: NAD27
XY_ORIGIN: 527392.00000 5365329.00000
SECONDARY_XY_ORIGIN: 527430.98700 5365107.60200
NATION: US
STATE: MT
NW_QUAD_CORNER_XY: 527735.95800 5364996.30600
NE_QUAD_CORNER_XY: 532358.60800 5365020.83100
SE_QUAD_CORNERY_XY: 532398.28100 5358073.74600
SW_QUAD_CORNER_XY: 527769.96400 5358049.21500
SECONDARY_NW_QUAD_XY: 527736.83900 5364777.34500
SECONDARY_NE_QUAD_XY: 532359.63600 5364801.87000
SECONDARY_SE_QUAD_XY: 532399.30800 5357854.79500
SECONDARY_SW_QUAD_XY: 527770.84400 5357830.26300
RMSE_XY: 4.43000
IMAGE_SOURCE: BLACK AND WHITE FILM
SOURCE_IMAGE_ID: NAPP 9082-025
SOURCE_IMAGE_DATE: 1996 6 12
SOURCE_DEM_DATE: 1998 0 0
AGENCY: WESTERN MAPPING CENTER (WMC)
PRODUCER: WOOLPERT LLP
PRODUCTION_SYSTEM: INTERGRAPH ISPM, ISIR
COMPRESSION: UNDEFINED
STANDARD_VERSION: 1996 12
METADATA_DATE: 2001 9 22
DATA_FILE_SIZE: 40296832
BYTE_COUNT: 5312
