FILENAME: O4810435.NWS.1163095.tif
QUADRANGLE_NAME: HOMESTEAD NW
QUADRANT: NW
WEST_LONGITUDE: -104 45 0.00000
EAST_LONGITUDE: -104 41 15.00000
NORTH_LATITUDE: 48 30 0.00000
SOUTH_LATITUDE: 48 26 15.00000
PRODUCTION_DATE: 2001 9 22
RASTER_ORDER: LEFT_RIGHT/TOP_BOTTOM
BAND_ORGANIZATION: SINGLE FILE
BAND_CONTENT: BLACK&WHITE
BAND_CONTENT: UNDEFINED
BAND_CONTENT: UNDEFINED
BITS_PER_PIXEL: 8
SAMPLES_AND_LINES: 5295 7578
HORIZONTAL_DATUM: NAD83
HORIZONTAL_COORDINATE_SYSTEM: UTM
COORDINATE_ZONE: 13
HORIZONTAL_UNITS: meters
HORIZONTAL_RESOLUTION: 1.00000
SECONDARY_HORIZONTAL_DATUM: NAD27
XY_ORIGIN: 518124.00000 5372231.00000
SECONDARY_XY_ORIGIN: 518162.99000 5372009.48700
NATION: US
STATE: MT
NW_QUAD_CORNER_XY: 518467.95500 5371905.75300
NE_QUAD_CORNER_XY: 523084.93900 5371922.72700
SE_QUAD_CORNERY_XY: 523113.30500 5364975.55500
SW_QUAD_CORNER_XY: 518490.64800 5364958.57600
SECONDARY_NW_QUAD_XY: 518468.54300 5371686.78100
SECONDARY_NE_QUAD_XY: 523085.67300 5371703.75600
SECONDARY_SE_QUAD_XY: 523114.03900 5364756.59200
SECONDARY_SW_QUAD_XY: 518491.23500 5364739.61300
RMSE_XY: 5.01000
IMAGE_SOURCE: BLACK AND WHITE FILM
SOURCE_IMAGE_ID: NAPP 9080-149
SOURCE_IMAGE_DATE: 1996 6 12
SOURCE_DEM_DATE: 1998 0 0
AGENCY: WESTERN MAPPING CENTER (WMC)
PRODUCER: WOOLPERT LLP
PRODUCTION_SYSTEM: INTERGRAPH ISPM, ISIR
COMPRESSION: UNDEFINED
STANDARD_VERSION: 1996 12
METADATA_DATE: 2001 9 22
DATA_FILE_SIZE: 40130805
BYTE_COUNT: 5295
