FILENAME: O4810434.NES.1163082.tif
QUADRANGLE_NAME: SMOKE CREEK NE
QUADRANT: NE
WEST_LONGITUDE: -104 48 45.00000
EAST_LONGITUDE: -104 45 0.00000
NORTH_LATITUDE: 48 30 0.00000
SOUTH_LATITUDE: 48 26 15.00000
PRODUCTION_DATE: 2001 9 22
RASTER_ORDER: LEFT_RIGHT/TOP_BOTTOM
BAND_ORGANIZATION: SINGLE FILE
BAND_CONTENT: BLACK&WHITE
BAND_CONTENT: UNDEFINED
BAND_CONTENT: UNDEFINED
BITS_PER_PIXEL: 8
SAMPLES_AND_LINES: 5289 7574
HORIZONTAL_DATUM: NAD83
HORIZONTAL_COORDINATE_SYSTEM: UTM
COORDINATE_ZONE: 13
HORIZONTAL_UNITS: meters
HORIZONTAL_RESOLUTION: 1.00000
SECONDARY_HORIZONTAL_DATUM: NAD27
XY_ORIGIN: 513507.00000 5372214.00000
SECONDARY_XY_ORIGIN: 513546.01700 5371992.48400
NATION: US
STATE: MT
NW_QUAD_CORNER_XY: 513850.96900 5371892.55100
NE_QUAD_CORNER_XY: 518467.95500 5371905.75300
SE_QUAD_CORNERY_XY: 518490.64800 5364958.57600
SW_QUAD_CORNER_XY: 513867.98800 5364945.37100
SECONDARY_NW_QUAD_XY: 513851.40900 5371673.57900
SECONDARY_NE_QUAD_XY: 518468.54300 5371686.78100
SECONDARY_SE_QUAD_XY: 518491.23500 5364739.61300
SECONDARY_SW_QUAD_XY: 513868.42800 5364726.40700
RMSE_XY: 4.70000
IMAGE_SOURCE: BLACK AND WHITE FILM
SOURCE_IMAGE_ID: NAPP 9081-068
SOURCE_IMAGE_DATE: 1996 6 12
SOURCE_DEM_DATE: 1998 0 0
AGENCY: WESTERN MAPPING CENTER (WMC)
PRODUCER: WOOLPERT LLP
PRODUCTION_SYSTEM: INTERGRAPH ISPM, ISIR
COMPRESSION: UNDEFINED
STANDARD_VERSION: 1996 12
METADATA_DATE: 2001 9 23
DATA_FILE_SIZE: 40064175
BYTE_COUNT: 5289
